BEGIN:VCALENDAR
VERSION:2.0
PRODID:-//Creative Community Space - ECPv6.15.13//NONSGML v1.0//EN
CALSCALE:GREGORIAN
METHOD:PUBLISH
X-WR-CALNAME:Creative Community Space
X-ORIGINAL-URL:https://creativecommunityspace.com
X-WR-CALDESC:Events for Creative Community Space
REFRESH-INTERVAL;VALUE=DURATION:PT1H
X-Robots-Tag:noindex
X-PUBLISHED-TTL:PT1H
BEGIN:VTIMEZONE
TZID:America/New_York
BEGIN:DAYLIGHT
TZOFFSETFROM:-0500
TZOFFSETTO:-0400
TZNAME:EDT
DTSTART:20190310T070000
END:DAYLIGHT
BEGIN:STANDARD
TZOFFSETFROM:-0400
TZOFFSETTO:-0500
TZNAME:EST
DTSTART:20191103T060000
END:STANDARD
BEGIN:DAYLIGHT
TZOFFSETFROM:-0500
TZOFFSETTO:-0400
TZNAME:EDT
DTSTART:20200308T070000
END:DAYLIGHT
BEGIN:STANDARD
TZOFFSETFROM:-0400
TZOFFSETTO:-0500
TZNAME:EST
DTSTART:20201101T060000
END:STANDARD
BEGIN:DAYLIGHT
TZOFFSETFROM:-0500
TZOFFSETTO:-0400
TZNAME:EDT
DTSTART:20210314T070000
END:DAYLIGHT
BEGIN:STANDARD
TZOFFSETFROM:-0400
TZOFFSETTO:-0500
TZNAME:EST
DTSTART:20211107T060000
END:STANDARD
END:VTIMEZONE
BEGIN:VEVENT
DTSTART;TZID=America/New_York:20200706T150000
DTEND;TZID=America/New_York:20200710T170000
DTSTAMP:20260425T213427
CREATED:20200220T025239Z
LAST-MODIFIED:20200709T190525Z
UID:10001080-1594047600-1594400400@creativecommunityspace.com
SUMMARY:Clay Camp! - cancelled
DESCRIPTION:Clay Camp! Come see what you can create from this special ingredient of dirt! \nThis camp is for students who will be in grades 7 – 9 in the fall or age equivalent. \nClay and pottery is one of the oldest known art forms.  Come learn the basics of pinch\, coil\, slab and scoop. You’ll create a small “piggy” bank (or other creature)\, pinch pot or bowl\, coil vase or mug and a vase from a rolled slab.  You’ll also learn how to glaze your ceramic piece so that it is a real piece of pottery. \nThis is a 1 week camp for 2 hours a day for $150 and $10.00 material fee.
URL:https://creativecommunityspace.com/event/clay-camp-2/
LOCATION:Creative Community Space\, 218 Main Street\, Epping\, NH\, 03042\, United States
ORGANIZER;CN="Vandy Leigh":MAILTO:AreaArts@yahoo.com
END:VEVENT
BEGIN:VEVENT
DTSTART;TZID=America/New_York:20200709T100000
DTEND;TZID=America/New_York:20200709T120000
DTSTAMP:20260425T213427
CREATED:20200220T015612Z
LAST-MODIFIED:20200709T190239Z
UID:10001074-1594288800-1594296000@creativecommunityspace.com
SUMMARY:CLAY CAMP! cancelled
DESCRIPTION:Clay Camp! \nGoing into grades 4th – 6th in the fall or age equivalent. \nCome have some fun learning all the basic clay forms\, coil\, pinch\, and slab construction as well as glazing techniques for your finished pieces.  Come see all the possibilities!  After taking this class you will have all the basics and the skills to make a wide array of ceramic pieces. \nThis is a 5 day/2 hour per day camp \nCost is $150 and $10 for materials
URL:https://creativecommunityspace.com/event/clay-camp/2020-07-09/
LOCATION:Creative Community Space\, 218 Main Street\, Epping\, NH\, 03042\, United States
ORGANIZER;CN="Wendy L. Harris":MAILTO:ravenartcreations@gmail.com
END:VEVENT
END:VCALENDAR