BEGIN:VCALENDAR
VERSION:2.0
PRODID:-//Creative Community Space - ECPv6.15.13//NONSGML v1.0//EN
CALSCALE:GREGORIAN
METHOD:PUBLISH
X-WR-CALNAME:Creative Community Space
X-ORIGINAL-URL:https://creativecommunityspace.com
X-WR-CALDESC:Events for Creative Community Space
REFRESH-INTERVAL;VALUE=DURATION:PT1H
X-Robots-Tag:noindex
X-PUBLISHED-TTL:PT1H
BEGIN:VTIMEZONE
TZID:America/New_York
BEGIN:DAYLIGHT
TZOFFSETFROM:-0500
TZOFFSETTO:-0400
TZNAME:EDT
DTSTART:20190310T070000
END:DAYLIGHT
BEGIN:STANDARD
TZOFFSETFROM:-0400
TZOFFSETTO:-0500
TZNAME:EST
DTSTART:20191103T060000
END:STANDARD
BEGIN:DAYLIGHT
TZOFFSETFROM:-0500
TZOFFSETTO:-0400
TZNAME:EDT
DTSTART:20200308T070000
END:DAYLIGHT
BEGIN:STANDARD
TZOFFSETFROM:-0400
TZOFFSETTO:-0500
TZNAME:EST
DTSTART:20201101T060000
END:STANDARD
BEGIN:DAYLIGHT
TZOFFSETFROM:-0500
TZOFFSETTO:-0400
TZNAME:EDT
DTSTART:20210314T070000
END:DAYLIGHT
BEGIN:STANDARD
TZOFFSETFROM:-0400
TZOFFSETTO:-0500
TZNAME:EST
DTSTART:20211107T060000
END:STANDARD
END:VTIMEZONE
BEGIN:VEVENT
DTSTART;TZID=America/New_York:20200713T080000
DTEND;TZID=America/New_York:20200717T120000
DTSTAMP:20260425T213429
CREATED:20200220T031021Z
LAST-MODIFIED:20200709T191500Z
UID:10001081-1594627200-1594987200@creativecommunityspace.com
SUMMARY:Papier-mâché camp! - cancelled
DESCRIPTION:Come make Papier-mâché!  – cancelled \nGrades 4 – 6 in the fall or age equivalent \nThis is a gooey way to enjoy your day!  We will make individual creature projects and a group Pinata to fill with candy and break on our last day of class! \nThis is a 4 hour/ day camp for $265.00 + $3.00 material fee
URL:https://creativecommunityspace.com/event/papier-mache-camp/
LOCATION:Creative Community Space\, 218 Main Street\, Epping\, NH\, 03042\, United States
ORGANIZER;CN="Wendy L. Harris":MAILTO:ravenartcreations@gmail.com
END:VEVENT
BEGIN:VEVENT
DTSTART;TZID=America/New_York:20200716T140000
DTEND;TZID=America/New_York:20200716T160000
DTSTAMP:20260425T213429
CREATED:20200307T045155Z
LAST-MODIFIED:20200709T191548Z
UID:10001095-1594908000-1594915200@creativecommunityspace.com
SUMMARY:Kids Tell Stories - cancelled
DESCRIPTION:We will also explore folk tales and how to tell our own stories. Students will also learn about Japanese storytelling – Kamishibai. This camp will include storytelling\, story writing\, illustration and storytelling. Come have fun learning to tell tales! \n(This is a 5 day/2 hours/day camp for $150.00 for students going into grades 3 – 5 or age equivalent.
URL:https://creativecommunityspace.com/event/kids-tell-stories-6/2020-07-16/
LOCATION:Creative Community Space\, 218 Main Street\, Epping\, NH\, 03042\, United States
ORGANIZER;CN="Vandy Leigh":MAILTO:AreaArts@yahoo.com
END:VEVENT
END:VCALENDAR