BEGIN:VCALENDAR
VERSION:2.0
PRODID:-//Creative Community Space - ECPv6.15.13//NONSGML v1.0//EN
CALSCALE:GREGORIAN
METHOD:PUBLISH
X-WR-CALNAME:Creative Community Space
X-ORIGINAL-URL:https://creativecommunityspace.com
X-WR-CALDESC:Events for Creative Community Space
REFRESH-INTERVAL;VALUE=DURATION:PT1H
X-Robots-Tag:noindex
X-PUBLISHED-TTL:PT1H
BEGIN:VTIMEZONE
TZID:America/New_York
BEGIN:DAYLIGHT
TZOFFSETFROM:-0500
TZOFFSETTO:-0400
TZNAME:EDT
DTSTART:20190310T070000
END:DAYLIGHT
BEGIN:STANDARD
TZOFFSETFROM:-0400
TZOFFSETTO:-0500
TZNAME:EST
DTSTART:20191103T060000
END:STANDARD
BEGIN:DAYLIGHT
TZOFFSETFROM:-0500
TZOFFSETTO:-0400
TZNAME:EDT
DTSTART:20200308T070000
END:DAYLIGHT
BEGIN:STANDARD
TZOFFSETFROM:-0400
TZOFFSETTO:-0500
TZNAME:EST
DTSTART:20201101T060000
END:STANDARD
BEGIN:DAYLIGHT
TZOFFSETFROM:-0500
TZOFFSETTO:-0400
TZNAME:EDT
DTSTART:20210314T070000
END:DAYLIGHT
BEGIN:STANDARD
TZOFFSETFROM:-0400
TZOFFSETTO:-0500
TZNAME:EST
DTSTART:20211107T060000
END:STANDARD
END:VTIMEZONE
BEGIN:VEVENT
DTSTART;TZID=America/New_York:20200720T150000
DTEND;TZID=America/New_York:20200720T170000
DTSTAMP:20260425T213431
CREATED:20200307T051442Z
LAST-MODIFIED:20200709T191037Z
UID:10001101-1595257200-1595264400@creativecommunityspace.com
SUMMARY:More Clay! - cancelled
DESCRIPTION:Try this 4 day clay camp.  If you missed our earlier beginners camp on July 6th\, we will start you with the basics- pinch\, coil and slab.  If you attended the July 6th week we will move you on to new things!  This is a short week.  You may need to attend an Open Art night to finish your glazing – free admittance coupon provided if needed. \nThis is a 2hour/day\, 4 day camp for grades 6-8 or age equivalent.  Cost is $120.00 with a $8.00 material fee.
URL:https://creativecommunityspace.com/event/more-clay-2/2020-07-20/
LOCATION:Creative Community Space\, 218 Main Street\, Epping\, NH\, 03042\, United States
ORGANIZER;CN="Wendy L. Harris":MAILTO:ravenartcreations@gmail.com
END:VEVENT
BEGIN:VEVENT
DTSTART;TZID=America/New_York:20200720T180000
DTEND;TZID=America/New_York:20200720T200000
DTSTAMP:20260425T213431
CREATED:20200307T050506Z
LAST-MODIFIED:20200709T191647Z
UID:10001097-1595268000-1595275200@creativecommunityspace.com
SUMMARY:High School Beginning Clay! - cancelled
DESCRIPTION:Try this 4 day clay camp.  We will start you with the basics- pinch\, coil and slab.   This is a short week.  You may need to attend an Open Art night to finish your glazing – free admittance coupon provided if needed. \nThis is a 2hour/day\, 4 day camp for High Schoolers or age equivalent.  Cost is $120.00 with a $8.00 material fee. \n 
URL:https://creativecommunityspace.com/event/more-clay/2020-07-20/
LOCATION:Creative Community Space\, 218 Main Street\, Epping\, NH\, 03042\, United States
ORGANIZER;CN="Wendy L. Harris":MAILTO:ravenartcreations@gmail.com
END:VEVENT
END:VCALENDAR