BEGIN:VCALENDAR
VERSION:2.0
PRODID:-//Creative Community Space - ECPv6.15.13//NONSGML v1.0//EN
CALSCALE:GREGORIAN
METHOD:PUBLISH
X-WR-CALNAME:Creative Community Space
X-ORIGINAL-URL:https://creativecommunityspace.com
X-WR-CALDESC:Events for Creative Community Space
REFRESH-INTERVAL;VALUE=DURATION:PT1H
X-Robots-Tag:noindex
X-PUBLISHED-TTL:PT1H
BEGIN:VTIMEZONE
TZID:America/New_York
BEGIN:DAYLIGHT
TZOFFSETFROM:-0500
TZOFFSETTO:-0400
TZNAME:EDT
DTSTART:20190310T070000
END:DAYLIGHT
BEGIN:STANDARD
TZOFFSETFROM:-0400
TZOFFSETTO:-0500
TZNAME:EST
DTSTART:20191103T060000
END:STANDARD
BEGIN:DAYLIGHT
TZOFFSETFROM:-0500
TZOFFSETTO:-0400
TZNAME:EDT
DTSTART:20200308T070000
END:DAYLIGHT
BEGIN:STANDARD
TZOFFSETFROM:-0400
TZOFFSETTO:-0500
TZNAME:EST
DTSTART:20201101T060000
END:STANDARD
BEGIN:DAYLIGHT
TZOFFSETFROM:-0500
TZOFFSETTO:-0400
TZNAME:EDT
DTSTART:20210314T070000
END:DAYLIGHT
BEGIN:STANDARD
TZOFFSETFROM:-0400
TZOFFSETTO:-0500
TZNAME:EST
DTSTART:20211107T060000
END:STANDARD
END:VTIMEZONE
BEGIN:VEVENT
DTSTART;TZID=America/New_York:20200803T090000
DTEND;TZID=America/New_York:20200803T100000
DTSTAMP:20260425T112126
CREATED:20200307T054222Z
LAST-MODIFIED:20200803T141545Z
UID:10001115-1596445200-1596448800@creativecommunityspace.com
SUMMARY:Printmaking – Found Materials – Everyday Items - Cancelled
DESCRIPTION:Printmaking – Found Materials – Everyday Items \nYou will create simple printed images with found objects and everyday items. This introduction to printmaking class of 5 days\, 1-hour classes for $75.00 with a $10. material fee.  3rd – 5th grade or equivalent age
URL:https://creativecommunityspace.com/event/printmaking-found-materials-everyday-items-2/2020-08-03/
LOCATION:Creative Community Space\, 218 Main Street\, Epping\, NH\, 03042\, United States
ORGANIZER;CN="Wendy L. Harris":MAILTO:ravenartcreations@gmail.com
END:VEVENT
BEGIN:VEVENT
DTSTART;TZID=America/New_York:20200803T120000
DTEND;TZID=America/New_York:20200803T160000
DTSTAMP:20260425T112126
CREATED:20200307T055628Z
LAST-MODIFIED:20200803T141229Z
UID:10001120-1596456000-1596470400@creativecommunityspace.com
SUMMARY:Introduction to Printmaking - Cancelled
DESCRIPTION:Students will learn to drawing techniques that will allow them to make a drawing and carve it into a rubber block from which they will print.  They will make a book to display their prints. Many wonderful works of art come from this class.  This camp is for students going into 6 – 9th grades. ** please note sharp tool use is part of this type of art-making and will be supervised.  Please eat lunch before you come and bring a water bottle. \nThis is a 4 hour/5 day camp for $275.00 + $10.00 materials fee for grades 6 – 9 or age equivalent.
URL:https://creativecommunityspace.com/event/introduction-to-printmaking-2/
LOCATION:Creative Community Space\, 218 Main Street\, Epping\, NH\, 03042\, United States
ORGANIZER;CN="Vandy Leigh":MAILTO:AreaArts@yahoo.com
END:VEVENT
END:VCALENDAR