BEGIN:VCALENDAR
VERSION:2.0
PRODID:-//Creative Community Space - ECPv6.15.13//NONSGML v1.0//EN
CALSCALE:GREGORIAN
METHOD:PUBLISH
X-ORIGINAL-URL:https://creativecommunityspace.com
X-WR-CALDESC:Events for Creative Community Space
REFRESH-INTERVAL;VALUE=DURATION:PT1H
X-Robots-Tag:noindex
X-PUBLISHED-TTL:PT1H
BEGIN:VTIMEZONE
TZID:America/New_York
BEGIN:DAYLIGHT
TZOFFSETFROM:-0500
TZOFFSETTO:-0400
TZNAME:EDT
DTSTART:20190310T070000
END:DAYLIGHT
BEGIN:STANDARD
TZOFFSETFROM:-0400
TZOFFSETTO:-0500
TZNAME:EST
DTSTART:20191103T060000
END:STANDARD
BEGIN:DAYLIGHT
TZOFFSETFROM:-0500
TZOFFSETTO:-0400
TZNAME:EDT
DTSTART:20200308T070000
END:DAYLIGHT
BEGIN:STANDARD
TZOFFSETFROM:-0400
TZOFFSETTO:-0500
TZNAME:EST
DTSTART:20201101T060000
END:STANDARD
BEGIN:DAYLIGHT
TZOFFSETFROM:-0500
TZOFFSETTO:-0400
TZNAME:EDT
DTSTART:20210314T070000
END:DAYLIGHT
BEGIN:STANDARD
TZOFFSETFROM:-0400
TZOFFSETTO:-0500
TZNAME:EST
DTSTART:20211107T060000
END:STANDARD
END:VTIMEZONE
BEGIN:VEVENT
DTSTART;TZID=America/New_York:20200811T090000
DTEND;TZID=America/New_York:20200815T120000
DTSTAMP:20260425T112105
CREATED:20200209T191823Z
LAST-MODIFIED:20200803T141651Z
UID:10001049-1597136400-1597492800@creativecommunityspace.com
SUMMARY:Crank It Up!  Online Puppet Class - Cancelled
DESCRIPTION:  \n    Use link below to see a show in action! \nhttps://1drv.ms/u/s!Aov58pRrirPiiCVlt0RRbbCfNOSh \nShadow Puppets & Crankies with Puppeteer Eric Weiss.  Grades 3 and up.  9AM – 12PM\,  for one week\, August 10 – 14 \nThis class is a puppetry class about the use of light and darkness (shadows)\, color\, and movement to create a different kind of puppet show.  Students will learn different shadow puppet styles to make movements using paper\, fasteners\, wood\, skewers\, punches\, and stencils. \nIn the week-long program\, after we learn the basics we will build a “Crankie.” A Crankie is a storytelling box with a moving screen that truly comes to life with the addition of shadow puppets.  The students can then create their very own show and theater using the skills they learned. \nThis is a 5 day class for 3 hours/day for $100. \nThere is an additional materials fee of $40.00. Materials will be shipped to you in a box before the class.  Open to students 3rd grade and up. \nSIGN UP DEADLINE: Tuesday\, July 28th –  To sign up after this time please contact Creative Community Space \nTo Sign Up: Email CreativeCommunitySpace@gmail.com and specify which class you would like to sign up for and we will email you the registration form and payment instructions. Siblings receive a materials discount as items can be shared. Please inquire.  Thank you.
URL:https://creativecommunityspace.com/event/illuminated-puppets/2020-08-11/
LOCATION:Creative Community Space\, 218 Main Street\, Epping\, NH\, 03042\, United States
END:VEVENT
BEGIN:VEVENT
DTSTART;TZID=America/New_York:20200812T090000
DTEND;TZID=America/New_York:20200816T120000
DTSTAMP:20260425T112105
CREATED:20200209T191823Z
LAST-MODIFIED:20200803T141651Z
UID:10001050-1597222800-1597579200@creativecommunityspace.com
SUMMARY:Crank It Up!  Online Puppet Class - Cancelled
DESCRIPTION:  \n    Use link below to see a show in action! \nhttps://1drv.ms/u/s!Aov58pRrirPiiCVlt0RRbbCfNOSh \nShadow Puppets & Crankies with Puppeteer Eric Weiss.  Grades 3 and up.  9AM – 12PM\,  for one week\, August 10 – 14 \nThis class is a puppetry class about the use of light and darkness (shadows)\, color\, and movement to create a different kind of puppet show.  Students will learn different shadow puppet styles to make movements using paper\, fasteners\, wood\, skewers\, punches\, and stencils. \nIn the week-long program\, after we learn the basics we will build a “Crankie.” A Crankie is a storytelling box with a moving screen that truly comes to life with the addition of shadow puppets.  The students can then create their very own show and theater using the skills they learned. \nThis is a 5 day class for 3 hours/day for $100. \nThere is an additional materials fee of $40.00. Materials will be shipped to you in a box before the class.  Open to students 3rd grade and up. \nSIGN UP DEADLINE: Tuesday\, July 28th –  To sign up after this time please contact Creative Community Space \nTo Sign Up: Email CreativeCommunitySpace@gmail.com and specify which class you would like to sign up for and we will email you the registration form and payment instructions. Siblings receive a materials discount as items can be shared. Please inquire.  Thank you.
URL:https://creativecommunityspace.com/event/illuminated-puppets/2020-08-12/
LOCATION:Creative Community Space\, 218 Main Street\, Epping\, NH\, 03042\, United States
END:VEVENT
BEGIN:VEVENT
DTSTART;TZID=America/New_York:20200813T090000
DTEND;TZID=America/New_York:20200817T120000
DTSTAMP:20260425T112105
CREATED:20200209T191823Z
LAST-MODIFIED:20200803T141651Z
UID:10001051-1597309200-1597665600@creativecommunityspace.com
SUMMARY:Crank It Up!  Online Puppet Class - Cancelled
DESCRIPTION:  \n    Use link below to see a show in action! \nhttps://1drv.ms/u/s!Aov58pRrirPiiCVlt0RRbbCfNOSh \nShadow Puppets & Crankies with Puppeteer Eric Weiss.  Grades 3 and up.  9AM – 12PM\,  for one week\, August 10 – 14 \nThis class is a puppetry class about the use of light and darkness (shadows)\, color\, and movement to create a different kind of puppet show.  Students will learn different shadow puppet styles to make movements using paper\, fasteners\, wood\, skewers\, punches\, and stencils. \nIn the week-long program\, after we learn the basics we will build a “Crankie.” A Crankie is a storytelling box with a moving screen that truly comes to life with the addition of shadow puppets.  The students can then create their very own show and theater using the skills they learned. \nThis is a 5 day class for 3 hours/day for $100. \nThere is an additional materials fee of $40.00. Materials will be shipped to you in a box before the class.  Open to students 3rd grade and up. \nSIGN UP DEADLINE: Tuesday\, July 28th –  To sign up after this time please contact Creative Community Space \nTo Sign Up: Email CreativeCommunitySpace@gmail.com and specify which class you would like to sign up for and we will email you the registration form and payment instructions. Siblings receive a materials discount as items can be shared. Please inquire.  Thank you.
URL:https://creativecommunityspace.com/event/illuminated-puppets/2020-08-13/
LOCATION:Creative Community Space\, 218 Main Street\, Epping\, NH\, 03042\, United States
END:VEVENT
BEGIN:VEVENT
DTSTART;TZID=America/New_York:20200814T090000
DTEND;TZID=America/New_York:20200818T120000
DTSTAMP:20260425T112105
CREATED:20200209T191823Z
LAST-MODIFIED:20200803T141651Z
UID:10001052-1597395600-1597752000@creativecommunityspace.com
SUMMARY:Crank It Up!  Online Puppet Class - Cancelled
DESCRIPTION:  \n    Use link below to see a show in action! \nhttps://1drv.ms/u/s!Aov58pRrirPiiCVlt0RRbbCfNOSh \nShadow Puppets & Crankies with Puppeteer Eric Weiss.  Grades 3 and up.  9AM – 12PM\,  for one week\, August 10 – 14 \nThis class is a puppetry class about the use of light and darkness (shadows)\, color\, and movement to create a different kind of puppet show.  Students will learn different shadow puppet styles to make movements using paper\, fasteners\, wood\, skewers\, punches\, and stencils. \nIn the week-long program\, after we learn the basics we will build a “Crankie.” A Crankie is a storytelling box with a moving screen that truly comes to life with the addition of shadow puppets.  The students can then create their very own show and theater using the skills they learned. \nThis is a 5 day class for 3 hours/day for $100. \nThere is an additional materials fee of $40.00. Materials will be shipped to you in a box before the class.  Open to students 3rd grade and up. \nSIGN UP DEADLINE: Tuesday\, July 28th –  To sign up after this time please contact Creative Community Space \nTo Sign Up: Email CreativeCommunitySpace@gmail.com and specify which class you would like to sign up for and we will email you the registration form and payment instructions. Siblings receive a materials discount as items can be shared. Please inquire.  Thank you.
URL:https://creativecommunityspace.com/event/illuminated-puppets/2020-08-14/
LOCATION:Creative Community Space\, 218 Main Street\, Epping\, NH\, 03042\, United States
END:VEVENT
END:VCALENDAR