BEGIN:VCALENDAR
VERSION:2.0
PRODID:-//Creative Community Space - ECPv6.15.13//NONSGML v1.0//EN
CALSCALE:GREGORIAN
METHOD:PUBLISH
X-ORIGINAL-URL:https://creativecommunityspace.com
X-WR-CALDESC:Events for Creative Community Space
REFRESH-INTERVAL;VALUE=DURATION:PT1H
X-Robots-Tag:noindex
X-PUBLISHED-TTL:PT1H
BEGIN:VTIMEZONE
TZID:America/New_York
BEGIN:DAYLIGHT
TZOFFSETFROM:-0500
TZOFFSETTO:-0400
TZNAME:EDT
DTSTART:20190310T070000
END:DAYLIGHT
BEGIN:STANDARD
TZOFFSETFROM:-0400
TZOFFSETTO:-0500
TZNAME:EST
DTSTART:20191103T060000
END:STANDARD
BEGIN:DAYLIGHT
TZOFFSETFROM:-0500
TZOFFSETTO:-0400
TZNAME:EDT
DTSTART:20200308T070000
END:DAYLIGHT
BEGIN:STANDARD
TZOFFSETFROM:-0400
TZOFFSETTO:-0500
TZNAME:EST
DTSTART:20201101T060000
END:STANDARD
BEGIN:DAYLIGHT
TZOFFSETFROM:-0500
TZOFFSETTO:-0400
TZNAME:EDT
DTSTART:20210314T070000
END:DAYLIGHT
BEGIN:STANDARD
TZOFFSETFROM:-0400
TZOFFSETTO:-0500
TZNAME:EST
DTSTART:20211107T060000
END:STANDARD
END:VTIMEZONE
BEGIN:VEVENT
DTSTART;TZID=America/New_York:20200826T083000
DTEND;TZID=America/New_York:20200826T100000
DTSTAMP:20260425T112108
CREATED:20200308T034618Z
LAST-MODIFIED:20200803T142253Z
UID:10001147-1598430600-1598436000@creativecommunityspace.com
SUMMARY:Introduction to Drawing  Cancelled
DESCRIPTION:This Intro to Drawing camp will bring students from seeing something -to learning to look and then be able to capture the essence of their subject. We will be drawing animals from sketch to finished drawing. \nThis is a 1 1/2 hour a day/5 day camp for $110.00
URL:https://creativecommunityspace.com/event/introduction-to-drawing-5/2020-08-26/
LOCATION:Creative Community Space\, 218 Main Street\, Epping\, NH\, 03042\, United States
ORGANIZER;CN="Vandy Leigh":MAILTO:AreaArts@yahoo.com
END:VEVENT
BEGIN:VEVENT
DTSTART;TZID=America/New_York:20200826T103000
DTEND;TZID=America/New_York:20200826T123000
DTSTAMP:20260425T112108
CREATED:20200308T035335Z
LAST-MODIFIED:20200803T142421Z
UID:10001152-1598437800-1598445000@creativecommunityspace.com
SUMMARY:Introduction to Drawing!  Cancelled
DESCRIPTION:This Introduction to Drawing camp will allow students to draw an animal from a photo\, concentrating on shape\, value and texture.  There is a true sense of accomplishment at the end of this camp – get a frame ready! (this is a 2 hour/5 day class for $150)  Grades 6-8 bring a light snack and a water bottle.
URL:https://creativecommunityspace.com/event/introduction-to-drawing-6/2020-08-26/
LOCATION:Creative Community Space\, 218 Main Street\, Epping\, NH\, 03042\, United States
ORGANIZER;CN="Vandy Leigh":MAILTO:AreaArts@yahoo.com
END:VEVENT
BEGIN:VEVENT
DTSTART;TZID=America/New_York:20200826T133000
DTEND;TZID=America/New_York:20200826T153000
DTSTAMP:20260425T112108
CREATED:20200308T033536Z
LAST-MODIFIED:20200803T142543Z
UID:10001142-1598448600-1598455800@creativecommunityspace.com
SUMMARY:Introduction to Drawing Cancelled
DESCRIPTION:Are you avoiding art because you feel you can’t draw? \nIf you are still drawing stick figures but want to be able to draw what you see\, I can set you on the right path. Learn to look and capture what you see.  You may be amazed at what you can really do! \n(This is a 2 hour/5 day class for $150.00)
URL:https://creativecommunityspace.com/event/introduction-to-drawing/2020-08-26/
LOCATION:Creative Community Space\, 218 Main Street\, Epping\, NH\, 03042\, United States
ORGANIZER;CN="Vandy Leigh":MAILTO:AreaArts@yahoo.com
END:VEVENT
BEGIN:VEVENT
DTSTART;TZID=America/New_York:20200826T170000
DTEND;TZID=America/New_York:20200826T183000
DTSTAMP:20260425T112108
CREATED:20190930T223032Z
LAST-MODIFIED:20190930T223032Z
UID:10000824-1598461200-1598466600@creativecommunityspace.com
SUMMARY:Open Art!!!
DESCRIPTION:Open Art!!! \nDrop-in and explore art-making!  No registration needed.  Try our featured project\, experiment with art materials\, look at our books and meet other people interested in making art.  There will be a teaching artist present to help support your efforts.  This is an intergenerational activity\, all ages are welcome. Stay for part of the time or the whole time\, it is up to you. \nCost for members: Free                                                          Cost for non-members: $7.00/person at the door
URL:https://creativecommunityspace.com/event/open-art-4/2020-08-26/
LOCATION:Creative Community Space\, 218 Main Street\, Epping\, NH\, 03042\, United States
ORGANIZER;CN="CCS Teachig Artists":MAILTO:CreativeCommunitySpace@gmail.com
END:VEVENT
END:VCALENDAR