BEGIN:VCALENDAR
VERSION:2.0
PRODID:-//Creative Community Space - ECPv6.15.13//NONSGML v1.0//EN
CALSCALE:GREGORIAN
METHOD:PUBLISH
X-WR-CALNAME:Creative Community Space
X-ORIGINAL-URL:https://creativecommunityspace.com
X-WR-CALDESC:Events for Creative Community Space
REFRESH-INTERVAL;VALUE=DURATION:PT1H
X-Robots-Tag:noindex
X-PUBLISHED-TTL:PT1H
BEGIN:VTIMEZONE
TZID:America/New_York
BEGIN:DAYLIGHT
TZOFFSETFROM:-0500
TZOFFSETTO:-0400
TZNAME:EDT
DTSTART:20230312T070000
END:DAYLIGHT
BEGIN:STANDARD
TZOFFSETFROM:-0400
TZOFFSETTO:-0500
TZNAME:EST
DTSTART:20231105T060000
END:STANDARD
BEGIN:DAYLIGHT
TZOFFSETFROM:-0500
TZOFFSETTO:-0400
TZNAME:EDT
DTSTART:20240310T070000
END:DAYLIGHT
BEGIN:STANDARD
TZOFFSETFROM:-0400
TZOFFSETTO:-0500
TZNAME:EST
DTSTART:20241103T060000
END:STANDARD
BEGIN:DAYLIGHT
TZOFFSETFROM:-0500
TZOFFSETTO:-0400
TZNAME:EDT
DTSTART:20250309T070000
END:DAYLIGHT
BEGIN:STANDARD
TZOFFSETFROM:-0400
TZOFFSETTO:-0500
TZNAME:EST
DTSTART:20251102T060000
END:STANDARD
END:VTIMEZONE
BEGIN:VEVENT
DTSTART;TZID=America/New_York:20240324T150000
DTEND;TZID=America/New_York:20240324T170000
DTSTAMP:20260419T184801
CREATED:20240213T234259Z
LAST-MODIFIED:20240323T000258Z
UID:10002246-1711292400-1711299600@creativecommunityspace.com
SUMMARY:🐣Postponed❤️Member Meet and Greet!❤️
DESCRIPTION:UPDATE: It seems this date was too close to Easter for most.  The Meet and Greet has been postponed. \nMembers Meet and Greet! \nCome and have some refreshments and meet other Creative Community Space Members. \nWe’ll have a group project to work on if you like\, and talk about future projects that members can participate in.  We will have an information sharing time to help improve Creative Community Space and what it has to offer members.  Also\, please bring info to share about your favorite fairs or places to sell! \nPlease RSVP (yes or no) by March 15th CreativeCommunitySpace@gmail.com \nYour spouse\, partner or interested friend is welcome to join you. \nphoto credit: Photo by Tim Marshall on Unsplash
URL:https://creativecommunityspace.com/event/member-meet-and-greet/
LOCATION:Creative Community Space\, 218 Main Street\, Epping\, NH\, 03042\, United States
CATEGORIES:adults,members only
ORGANIZER;CN="Creative Community Space":MAILTO:CreativeCommunitySpace@gmail.com
END:VEVENT
END:VCALENDAR