BEGIN:VCALENDAR
VERSION:2.0
PRODID:-//Creative Community Space - ECPv6.15.13//NONSGML v1.0//EN
CALSCALE:GREGORIAN
METHOD:PUBLISH
X-WR-CALNAME:Creative Community Space
X-ORIGINAL-URL:https://creativecommunityspace.com
X-WR-CALDESC:Events for Creative Community Space
REFRESH-INTERVAL;VALUE=DURATION:PT1H
X-Robots-Tag:noindex
X-PUBLISHED-TTL:PT1H
BEGIN:VTIMEZONE
TZID:America/New_York
BEGIN:DAYLIGHT
TZOFFSETFROM:-0500
TZOFFSETTO:-0400
TZNAME:EDT
DTSTART:20230312T070000
END:DAYLIGHT
BEGIN:STANDARD
TZOFFSETFROM:-0400
TZOFFSETTO:-0500
TZNAME:EST
DTSTART:20231105T060000
END:STANDARD
BEGIN:DAYLIGHT
TZOFFSETFROM:-0500
TZOFFSETTO:-0400
TZNAME:EDT
DTSTART:20240310T070000
END:DAYLIGHT
BEGIN:STANDARD
TZOFFSETFROM:-0400
TZOFFSETTO:-0500
TZNAME:EST
DTSTART:20241103T060000
END:STANDARD
BEGIN:DAYLIGHT
TZOFFSETFROM:-0500
TZOFFSETTO:-0400
TZNAME:EDT
DTSTART:20250309T070000
END:DAYLIGHT
BEGIN:STANDARD
TZOFFSETFROM:-0400
TZOFFSETTO:-0500
TZNAME:EST
DTSTART:20251102T060000
END:STANDARD
END:VTIMEZONE
BEGIN:VEVENT
DTSTART;TZID=America/New_York:20240402T190000
DTEND;TZID=America/New_York:20240402T210000
DTSTAMP:20260419T202922
CREATED:20240212T023921Z
LAST-MODIFIED:20240409T170420Z
UID:10002220-1712084400-1712091600@creativecommunityspace.com
SUMMARY:Open Art - Clay!!!
DESCRIPTION:                               \nDrop-in and create.  This is an Open Art session with clay. These sessions are available once a month for a $12.00 fee.  Basic clay instruction on clay hand-building and tool usage will be provided. (sorry no wheels)  Your fee is your studio fee\, clay can be purchased for $3.00/ pound.  The clay fee includes the first firing in the kiln (bisque fire).  Later come to a Glaze Day. You pay a studio fee of $12.00. Your glaze fee is $3.00/pound of clay used. On this day your glaze fee will include glaze and glaze firing in the kiln to create your functional ceramic piece. This is drop-in first\, come/first serve for spaces.  Cash is preferred but cards are accepted. \n*********WE NOW HAVE CLAY NIGHT 2 WEEKS IN A ROW SO YOU HAVE MORE TIME TO WORK ON A PROJECT!!! \nThis is an All Ages Event \n*Open Art is Free to Members of Creative Community Space\, they only pay the $3.00 materials fee/pound on clay and glaze nights- see our website for membership details. \nAs winter illnesses develop Masks are optional\, this is a no-judgment zone!
URL:https://creativecommunityspace.com/event/open-art-clay-3-2/2024-04-02/
LOCATION:Creative Community Space\, 218 Main Street\, Epping\, NH\, 03042\, United States
CATEGORIES:adults,Art Class,Art Making Event,ceramics,Class,elementary students,families,High School Students,homeschool,kids,middle school,persons with developmental disabilities
ORGANIZER;CN="Creative Community Space":MAILTO:CreativeCommunitySpace@gmail.com
END:VEVENT
BEGIN:VEVENT
DTSTART;TZID=America/New_York:20240403T100000
DTEND;TZID=America/New_York:20240403T113000
DTSTAMP:20260419T202922
CREATED:20231231T035922Z
LAST-MODIFIED:20231231T035922Z
UID:10002204-1712138400-1712143800@creativecommunityspace.com
SUMMARY:Art Explorers!!!
DESCRIPTION:  \n \n  \nThe Art Explorers Club is supportive of the artistic interests of individuals with developmental disabilities.  Art Explorers Club members are presented with a project which they can make or they can experiment with the materials.  We meet twice a month on the first and third Wednesdays. You must pre-register for this club\, please see below. \n*If you would like your group or individuals to join Art Explorers Club or would like us to offer  a club for your group\, please email Vandy at www.CreativeCommunityspace@gmail.com
URL:https://creativecommunityspace.com/event/art-explorers-14/2024-04-03/
LOCATION:Creative Community Space\, 218 Main Street\, Epping\, NH\, 03042\, United States
CATEGORIES:adults,Art Class,art club,High School Students,persons with developmental disabilities
ORGANIZER;CN="Creative Community Space":MAILTO:CreativeCommunitySpace@gmail.com
END:VEVENT
BEGIN:VEVENT
DTSTART;TZID=America/New_York:20240409T190000
DTEND;TZID=America/New_York:20240409T210000
DTSTAMP:20260419T202922
CREATED:20240409T165926Z
LAST-MODIFIED:20240708T141600Z
UID:10002285-1712689200-1712696400@creativecommunityspace.com
SUMMARY:Open Art - Clay Night!!!
DESCRIPTION:  \n  \nDrop-in and create.  This is an Open Art session with clay. These sessions are available twice a month for a $12.00 fee each night.  Basic clay instruction on clay hand-building and tool usage will be provided. (sorry no wheels)  Your fee is your studio fee\, clay can be purchased for $3.00/ pound.  The clay fee includes the first firing in the kiln (bisque fire).  Later come to a Glaze Day. You pay a studio fee of $12.00. Your glaze fee is $3.00/pound of clay used. On this day your glaze fee will include glaze and glaze firing in the kiln to create your functional ceramic piece. This is drop-in first\, come/first serve for spaces.  Cash is preferred but cards are accepted. \n*********WE NOW HAVE CLAY NIGHT 2 WEEKS IN A ROW SO YOU HAVE MORE TIME TO WORK ON A PROJECT!!! \nThis is an All Ages Event \n*Open Art is Free to Members of Creative Community Space\, they only pay the $3.00 materials fee/pound on clay and glaze nights- see our website for membership details. \nAs winter illnesses develop Masks are optional\, this is a no-judgment zone!
URL:https://creativecommunityspace.com/event/open-art-clay-night-11/2024-04-09/
LOCATION:Creative Community Space\, 218 Main Street\, Epping\, NH\, 03042\, United States
CATEGORIES:adults,Art Class,Art Making Event,ceramics,Class,couples,elementary students,homeschool,kids,middle school,persons with developmental disabilities
ORGANIZER;CN="Creative Community Space":MAILTO:CreativeCommunitySpace@gmail.com
END:VEVENT
BEGIN:VEVENT
DTSTART;TZID=America/New_York:20240414T140000
DTEND;TZID=America/New_York:20240414T153000
DTSTAMP:20260419T202922
CREATED:20240311T022608Z
LAST-MODIFIED:20240413T005527Z
UID:10002261-1713103200-1713108600@creativecommunityspace.com
SUMMARY:Fused Glass Suncatcher Class
DESCRIPTION:Create your own special glass art with colorful glass (all materials included). \nYou will learn the basics of fused glass colorwork and with the supplied materials arrange bits of glass on a 3”x3” base. \nNo previous experience or skills needed.  I provide stencils to draw designs or you can create your own design. \nThe pieces will be fired after class and ready for pickup a week later. \nWe need 6 people to run this workshop. \nBring a friend and save $5 each! \nRegistration due by 4/13\, cancellation by 4/13. \nQuestions? Contact Nancy Nancystruecolors@gmail.com
URL:https://creativecommunityspace.com/event/fused-glass-suncatcher-class-2/
LOCATION:Creative Community Space\, 218 Main Street\, Epping\, NH\, 03042\, United States
CATEGORIES:adults,Art Class,Art Making Event,Class,Fused Glass,High School Students,workshop
END:VEVENT
BEGIN:VEVENT
DTSTART;TZID=America/New_York:20240416T190000
DTEND;TZID=America/New_York:20240416T210000
DTSTAMP:20260419T202922
CREATED:20231231T054200Z
LAST-MODIFIED:20240409T171511Z
UID:10002281-1713294000-1713301200@creativecommunityspace.com
SUMMARY:Open Art!!!
DESCRIPTION:  \nDrop-in and get creative!  Explore our materials\, try our example project\, or bring your own project. Make it a fun night out with friends! Come and meet other creatives!   Basic materials are included in your fee\, some items are available for small additional fees. \n*Open Art is free to members of Creative Community Space – see the website for membership information. \nFirst come/first serve for spaces.  Exact cash is preferred\,  cards are also accepted. \n\na variety of materials are available to explore during Open Art.\nClay and glazing are on separate nights\, see the website calendar on Tuesdays.\n\n*Masks are optional this is a no-judgement zone!
URL:https://creativecommunityspace.com/event/open-art-43/2024-04-16/
LOCATION:Creative Community Space\, 218 Main Street\, Epping\, NH\, 03042\, United States
CATEGORIES:adults,Art Class,Art Making Event,Class,couples,families,High School Students,homeschool,kids,middle school,persons with developmental disabilities,workshop
ORGANIZER;CN="Creative Community Space":MAILTO:CreativeCommunitySpace@gmail.com
END:VEVENT
BEGIN:VEVENT
DTSTART;TZID=America/New_York:20240417T100000
DTEND;TZID=America/New_York:20240417T113000
DTSTAMP:20260419T202922
CREATED:20231231T040322Z
LAST-MODIFIED:20231231T040322Z
UID:10002209-1713348000-1713353400@creativecommunityspace.com
SUMMARY:ART EXPLORERS!!!
DESCRIPTION:  \nThe Art Explorers Club is supportive of the artistic interests of individuals with developmental disabilities.  Art Explorers Club members are presented with a project which they can make or they can experiment with the materials.  We meet twice a month on the first and third Wednesdays. You must pre-register for this club\, please see below. \n*If you would like your group or individuals to join Art Explorers Club or would like us to offer  a club for your group\, please email Vandy at www.CreativeCommunityspace@gmail.com
URL:https://creativecommunityspace.com/event/art-explorers-15/2024-04-17/
LOCATION:Creative Community Space\, 218 Main Street\, Epping\, NH\, 03042\, United States
CATEGORIES:adults,Art Class,art club,High School Students,persons with developmental disabilities
ORGANIZER;CN="Creative Community Space":MAILTO:CreativeCommunitySpace@gmail.com
END:VEVENT
BEGIN:VEVENT
DTSTART;TZID=America/New_York:20240430T190000
DTEND;TZID=America/New_York:20240430T210000
DTSTAMP:20260419T202922
CREATED:20231231T061914Z
LAST-MODIFIED:20240409T171832Z
UID:10002283-1714503600-1714510800@creativecommunityspace.com
SUMMARY:Open Art- GLAZE NIGHT!!!
DESCRIPTION:                   \nDid you make ceramics at a Creative Community Space class or event?  Come on this evening to paint on your glaze so we can fire it again and make it a functional ceramic piece for you.  You pay a $12.00 studio fee. Glaze is then $3.00/ pound of clay used. This includes your second firing to make your creation a functional ceramic piece. \nThis is an All Ages event. Drop in no registration needed. \n*Open Art is Free to Members of Creative Community Space\, they only pay the $3.00 materials fee on clay and glaze nights- see our website for membership details. \nFirst come/first serve for spaces.  Cash is preferred but cards are accepted. \nMasks are optional\, this is a no-judgment zone!!!
URL:https://creativecommunityspace.com/event/open-art-glaze-night-12/2024-04-30/
LOCATION:Creative Community Space\, 218 Main Street\, Epping\, NH\, 03042\, United States
CATEGORIES:adults,Art Class,Art Making Event,ceramics,Class,elementary students,families,High School Students,homeschool,kids,middle school,persons with developmental disabilities
ORGANIZER;CN="Creative Community Space":MAILTO:CreativeCommunitySpace@gmail.com
END:VEVENT
END:VCALENDAR