BEGIN:VCALENDAR
VERSION:2.0
PRODID:-//Creative Community Space - ECPv6.15.13//NONSGML v1.0//EN
CALSCALE:GREGORIAN
METHOD:PUBLISH
X-ORIGINAL-URL:https://creativecommunityspace.com
X-WR-CALDESC:Events for Creative Community Space
REFRESH-INTERVAL;VALUE=DURATION:PT1H
X-Robots-Tag:noindex
X-PUBLISHED-TTL:PT1H
BEGIN:VTIMEZONE
TZID:America/New_York
BEGIN:DAYLIGHT
TZOFFSETFROM:-0500
TZOFFSETTO:-0400
TZNAME:EDT
DTSTART:20220313T070000
END:DAYLIGHT
BEGIN:STANDARD
TZOFFSETFROM:-0400
TZOFFSETTO:-0500
TZNAME:EST
DTSTART:20221106T060000
END:STANDARD
BEGIN:DAYLIGHT
TZOFFSETFROM:-0500
TZOFFSETTO:-0400
TZNAME:EDT
DTSTART:20230312T070000
END:DAYLIGHT
BEGIN:STANDARD
TZOFFSETFROM:-0400
TZOFFSETTO:-0500
TZNAME:EST
DTSTART:20231105T060000
END:STANDARD
BEGIN:DAYLIGHT
TZOFFSETFROM:-0500
TZOFFSETTO:-0400
TZNAME:EDT
DTSTART:20240310T070000
END:DAYLIGHT
BEGIN:STANDARD
TZOFFSETFROM:-0400
TZOFFSETTO:-0500
TZNAME:EST
DTSTART:20241103T060000
END:STANDARD
END:VTIMEZONE
BEGIN:VEVENT
DTSTART;TZID=America/New_York:20230905T190000
DTEND;TZID=America/New_York:20230905T210000
DTSTAMP:20260424T062055
CREATED:20230613T025948Z
LAST-MODIFIED:20230613T025948Z
UID:10002107-1693940400-1693947600@creativecommunityspace.com
SUMMARY:Open Art - Glaze Night!!!
DESCRIPTION:Did you make ceramics at a Creative Community Space class or event?  Come on this evening to paint on your glaze so we can fire it again and make it a functional ceramic piece for you.  Your glaze and firing are included in your drop-in fee of $13.00 for a piece originally 1 pound. *additional $3.00/pound after the first one. \nThis is an All Ages event. Drop in no registration needed. \n*Open Art is Free to Members of Creative Community Space\, they only pay the $3.00 materials fee on clay and glaze nights- see our website for membership details. \nFirst come/first serve for spaces.  Cash is preferred but cards are accepted.  After May 1st\, weather permitting\, we will meet in our 3 season barn with the door open for fresh air.  It is screened.
URL:https://creativecommunityspace.com/event/open-art-glaze-night-9/2023-09-05/
LOCATION:Creative Community Space\, 218 Main Street\, Epping\, NH\, 03042\, United States
CATEGORIES:adults,Art Class,Art Making Event,ceramics,Class,couples,elementary students,High School Students,homeschool,kids,middle school
ORGANIZER;CN="Creative Community Space":MAILTO:CreativeCommunitySpace@gmail.com
END:VEVENT
BEGIN:VEVENT
DTSTART;TZID=America/New_York:20230912T190000
DTEND;TZID=America/New_York:20230912T210000
DTSTAMP:20260424T062055
CREATED:20230818T180204Z
LAST-MODIFIED:20230818T180204Z
UID:10002103-1694545200-1694552400@creativecommunityspace.com
SUMMARY:Open Art!!!
DESCRIPTION:Drop-in and get creative!  Explore our materials\, or bring your own project. Make it a fun night out with friends! Come and meet other creatives!   Basic materials are included in your fee\, some items are available for small additional fees. \n*Open Art is free to members of Creative Community Space – see the website for membership information. \nFirst come/first serve for spaces.  Exact cash is preferred\,  cards are also accepted. \n \nExample project: Birds On a Wire – collage\, yarn\, tissue paper\, wallpaper\, glue\, cardboard.
URL:https://creativecommunityspace.com/event/open-art-41-3/2023-09-12/
LOCATION:Creative Community Space\, 218 Main Street\, Epping\, NH\, 03042\, United States
CATEGORIES:adults,Art Class,Art Making Event,ceramics,Class,couples,Event,High School Students,homeschool,kids,middle school
ORGANIZER;CN="Creative Community Space":MAILTO:CreativeCommunitySpace@gmail.com
END:VEVENT
BEGIN:VEVENT
DTSTART;TZID=America/New_York:20230914T143000
DTEND;TZID=America/New_York:20230914T160000
DTSTAMP:20260424T062055
CREATED:20230610T204157Z
LAST-MODIFIED:20230610T204157Z
UID:10001988-1694701800-1694707200@creativecommunityspace.com
SUMMARY:Middle School Art Club!!!
DESCRIPTION:             \n  \nMiddle School Art Club is a social and creative gathering to explore art materials and techniques sessions will be planned with club members’ input.  We will learn about the power of art and the ways we can use art to make a difference in the world. \nArt Club for grades 6-8 or age equivalent\, will meet Thursdays from 2:30 – 4:00.  Registration is for a month of classes – be sure to check the calendar to know when we are meeting.  You must renew your registration monthly by emailing Vandy at CreativeCommunitySpace@gmail.com or speaking to her directly  on or before the third day of the current session.  Cost is $96.00/4-week session\, materials fee may be required depending on projects chosen by the group. \nEpping Middle School Students can walk on the public sidewalks down to the Arts Center\, Creative Community Space.  Students should bring a snack to eat before we begin Art Club activities. \nHomeschooled students or students coming from other school districts should arrive at Creative Community Space by 2:40 (and eat a snack before they come) \nYou will find the registration form at the link below.  Upon receiving your registration & payment we will email you a “Walkers’ Release” that will allow your child to walk from school. \n*Please note   We generally follow the SAU 14 school calendar for days off/snow days. \nRegistration Deadline: ADVANCED REGISTRATION FOR THE FALL IS HIGHLY ENCOURAGED.   Please invite your child/youth’s friend to join Art Club. \nCancelation Policy:  Advanced registration can be refunded in full by August 31st for the 1st Art Club session of the year.  Credit is given for a future activity or art club if cancelation is on or after Aug. 31. No refunds after the 4-week session has begun.   \nRegistration deadlines for each session follow the above protocol.  The deadline is 2 weeks before a session begins.  Always feel free to email us and ask if there is space if the deadline has passed. \nMeeting space:  We will be meeting in the Art Barn with the door open for fresh air flow until the weather becomes prohibitive\, students should dress appropriately.  After October\, Art Club will meet in the indoor Gathering Space. \nDuring classes and Open Art at Creative Community Space masks are optional. \nFALL 2023 MEETING DATES   *these will shift if there are snow days or other cancelations. \n\nSeptember: 14\, 21\, 28\, October 5\nOctober: 12\, 19\, 26\, November 2\nNovember 9\, 16\, (no school 23) 30 December 7\nDecember 14\, 21\, January 4 & 11\, 2024                                                                                                                                                          2024 dates will appear in late November 2023
URL:https://creativecommunityspace.com/event/middle-school-art-club-4/2023-09-14/
LOCATION:Creative Community Space\, 218 Main Street\, Epping\, NH\, 03042\, United States
CATEGORIES:Art Class,art club,Art Making Event,Class,homeschool,kids,middle school
ORGANIZER;CN="Creative Community Space":MAILTO:CreativeCommunitySpace@gmail.com
END:VEVENT
BEGIN:VEVENT
DTSTART;TZID=America/New_York:20230919T190000
DTEND;TZID=America/New_York:20230919T210000
DTSTAMP:20260424T062055
CREATED:20230613T015956Z
LAST-MODIFIED:20230613T023922Z
UID:10002007-1695150000-1695157200@creativecommunityspace.com
SUMMARY:Open Art!!!  Clay Night!!!
DESCRIPTION:Drop-in and create.  This is an Open Art session with clay. These sessions are available once a month.  Basic clay instruction on clay hand-building and tool usage will be provided. (sorry no wheels)  Your fee includes 1 pound of clay – additional clay can be purchased for $3.00/ pound.  The fee includes the first firing in the kiln (bisque fire).  Later come to a Glaze Day. Your fee on this day will include glaze and glaze firing in the kiln to create your functional ceramic piece. This is droop in first\, come/first serve for spaces.  Cash is preferred but cards are accepted. \nThis is an All Ages Event \n*Open Art is Free to Members of Creative Community Space\, they only pay the $3.00 materials fee on clay and glaze nights- see our website for membership details.
URL:https://creativecommunityspace.com/event/open-art-clay-night-10/2023-09-19/
LOCATION:Creative Community Space\, 218 Main Street\, Epping\, NH\, 03042\, United States
CATEGORIES:adults,Art Class,Art Making Event,ceramics,Class,couples,High School Students,homeschool,kids,middle school
ORGANIZER;CN="Creative Community Space":MAILTO:CreativeCommunitySpace@gmail.com
END:VEVENT
BEGIN:VEVENT
DTSTART;TZID=America/New_York:20230920T100000
DTEND;TZID=America/New_York:20230920T113000
DTSTAMP:20260424T062055
CREATED:20230815T204047Z
LAST-MODIFIED:20230815T211511Z
UID:10002125-1695204000-1695209400@creativecommunityspace.com
SUMMARY:ART EXPLORERS!
DESCRIPTION:  \n \nThe Art Explorers Club is supportive of the artistic interests of individuals with developmental disabilities.  Art Explorers Club members are presented with a project which they can make\, or they can experiment with the materials.  We meet twice a month on the first and third Wednesdays. You must pre-register for this club\, please see below. \n*If you would like your group or individuals to join Art Explorers Club or would like us to offer  a club for your group\, please email Vandy at www.CreativeCommunityspace@gmail.com
URL:https://creativecommunityspace.com/event/art-explorers-12/2023-09-20/
LOCATION:Creative Community Space\, 218 Main Street\, Epping\, NH\, 03042\, United States
CATEGORIES:adults,art club,Art Making Event,persons with developmental disabilities
ORGANIZER;CN="Creative Community Space":MAILTO:CreativeCommunitySpace@gmail.com
END:VEVENT
BEGIN:VEVENT
DTSTART;TZID=America/New_York:20230921T143000
DTEND;TZID=America/New_York:20230921T160000
DTSTAMP:20260424T062055
CREATED:20230610T204157Z
LAST-MODIFIED:20230610T204157Z
UID:10001989-1695306600-1695312000@creativecommunityspace.com
SUMMARY:Middle School Art Club!!!
DESCRIPTION:             \n  \nMiddle School Art Club is a social and creative gathering to explore art materials and techniques sessions will be planned with club members’ input.  We will learn about the power of art and the ways we can use art to make a difference in the world. \nArt Club for grades 6-8 or age equivalent\, will meet Thursdays from 2:30 – 4:00.  Registration is for a month of classes – be sure to check the calendar to know when we are meeting.  You must renew your registration monthly by emailing Vandy at CreativeCommunitySpace@gmail.com or speaking to her directly  on or before the third day of the current session.  Cost is $96.00/4-week session\, materials fee may be required depending on projects chosen by the group. \nEpping Middle School Students can walk on the public sidewalks down to the Arts Center\, Creative Community Space.  Students should bring a snack to eat before we begin Art Club activities. \nHomeschooled students or students coming from other school districts should arrive at Creative Community Space by 2:40 (and eat a snack before they come) \nYou will find the registration form at the link below.  Upon receiving your registration & payment we will email you a “Walkers’ Release” that will allow your child to walk from school. \n*Please note   We generally follow the SAU 14 school calendar for days off/snow days. \nRegistration Deadline: ADVANCED REGISTRATION FOR THE FALL IS HIGHLY ENCOURAGED.   Please invite your child/youth’s friend to join Art Club. \nCancelation Policy:  Advanced registration can be refunded in full by August 31st for the 1st Art Club session of the year.  Credit is given for a future activity or art club if cancelation is on or after Aug. 31. No refunds after the 4-week session has begun.   \nRegistration deadlines for each session follow the above protocol.  The deadline is 2 weeks before a session begins.  Always feel free to email us and ask if there is space if the deadline has passed. \nMeeting space:  We will be meeting in the Art Barn with the door open for fresh air flow until the weather becomes prohibitive\, students should dress appropriately.  After October\, Art Club will meet in the indoor Gathering Space. \nDuring classes and Open Art at Creative Community Space masks are optional. \nFALL 2023 MEETING DATES   *these will shift if there are snow days or other cancelations. \n\nSeptember: 14\, 21\, 28\, October 5\nOctober: 12\, 19\, 26\, November 2\nNovember 9\, 16\, (no school 23) 30 December 7\nDecember 14\, 21\, January 4 & 11\, 2024                                                                                                                                                          2024 dates will appear in late November 2023
URL:https://creativecommunityspace.com/event/middle-school-art-club-4/2023-09-21/
LOCATION:Creative Community Space\, 218 Main Street\, Epping\, NH\, 03042\, United States
CATEGORIES:Art Class,art club,Art Making Event,Class,homeschool,kids,middle school
ORGANIZER;CN="Creative Community Space":MAILTO:CreativeCommunitySpace@gmail.com
END:VEVENT
BEGIN:VEVENT
DTSTART;TZID=America/New_York:20230922T183000
DTEND;TZID=America/New_York:20230922T183000
DTSTAMP:20260424T062055
CREATED:20230905T030210Z
LAST-MODIFIED:20230905T030210Z
UID:10002145-1695407400-1695407400@creativecommunityspace.com
SUMMARY:Paint Night!
DESCRIPTION:Come to Creative Community Space and join Art With A Splash for a paint night (we’re sorry no alcohol this time.) \nWe’ve had lots of rain and Fall is upon us! Come get some excellent instruction from Jim and create “Fall Leaves in the Rain.”  Seating is limited so register ASAP! \nRegister by calling Art Wtih A Splash at 603-682-8021 \nOur parking lot at Creative Community Space is about 150 feet up Prospect Street. \nWe’re so excited to be able to offer this opportunity that so many of you have asked for!
URL:https://creativecommunityspace.com/event/paint-night/
LOCATION:Creative Community Space\, 218 Main Street\, Epping\, NH\, 03042\, United States
CATEGORIES:adults,Art Class,Art Making Event,Class,paint night,painting
END:VEVENT
BEGIN:VEVENT
DTSTART;TZID=America/New_York:20230926T190000
DTEND;TZID=America/New_York:20230926T210000
DTSTAMP:20260424T062055
CREATED:20230818T180204Z
LAST-MODIFIED:20230818T180204Z
UID:10002104-1695754800-1695762000@creativecommunityspace.com
SUMMARY:Open Art!!!
DESCRIPTION:Drop-in and get creative!  Explore our materials\, or bring your own project. Make it a fun night out with friends! Come and meet other creatives!   Basic materials are included in your fee\, some items are available for small additional fees. \n*Open Art is free to members of Creative Community Space – see the website for membership information. \nFirst come/first serve for spaces.  Exact cash is preferred\,  cards are also accepted. \n \nExample project: Birds On a Wire – collage\, yarn\, tissue paper\, wallpaper\, glue\, cardboard.
URL:https://creativecommunityspace.com/event/open-art-41-3/2023-09-26/
LOCATION:Creative Community Space\, 218 Main Street\, Epping\, NH\, 03042\, United States
CATEGORIES:adults,Art Class,Art Making Event,ceramics,Class,couples,Event,High School Students,homeschool,kids,middle school
ORGANIZER;CN="Creative Community Space":MAILTO:CreativeCommunitySpace@gmail.com
END:VEVENT
BEGIN:VEVENT
DTSTART;TZID=America/New_York:20230928T143000
DTEND;TZID=America/New_York:20230928T160000
DTSTAMP:20260424T062055
CREATED:20230610T204157Z
LAST-MODIFIED:20230610T204157Z
UID:10001990-1695911400-1695916800@creativecommunityspace.com
SUMMARY:Middle School Art Club!!!
DESCRIPTION:             \n  \nMiddle School Art Club is a social and creative gathering to explore art materials and techniques sessions will be planned with club members’ input.  We will learn about the power of art and the ways we can use art to make a difference in the world. \nArt Club for grades 6-8 or age equivalent\, will meet Thursdays from 2:30 – 4:00.  Registration is for a month of classes – be sure to check the calendar to know when we are meeting.  You must renew your registration monthly by emailing Vandy at CreativeCommunitySpace@gmail.com or speaking to her directly  on or before the third day of the current session.  Cost is $96.00/4-week session\, materials fee may be required depending on projects chosen by the group. \nEpping Middle School Students can walk on the public sidewalks down to the Arts Center\, Creative Community Space.  Students should bring a snack to eat before we begin Art Club activities. \nHomeschooled students or students coming from other school districts should arrive at Creative Community Space by 2:40 (and eat a snack before they come) \nYou will find the registration form at the link below.  Upon receiving your registration & payment we will email you a “Walkers’ Release” that will allow your child to walk from school. \n*Please note   We generally follow the SAU 14 school calendar for days off/snow days. \nRegistration Deadline: ADVANCED REGISTRATION FOR THE FALL IS HIGHLY ENCOURAGED.   Please invite your child/youth’s friend to join Art Club. \nCancelation Policy:  Advanced registration can be refunded in full by August 31st for the 1st Art Club session of the year.  Credit is given for a future activity or art club if cancelation is on or after Aug. 31. No refunds after the 4-week session has begun.   \nRegistration deadlines for each session follow the above protocol.  The deadline is 2 weeks before a session begins.  Always feel free to email us and ask if there is space if the deadline has passed. \nMeeting space:  We will be meeting in the Art Barn with the door open for fresh air flow until the weather becomes prohibitive\, students should dress appropriately.  After October\, Art Club will meet in the indoor Gathering Space. \nDuring classes and Open Art at Creative Community Space masks are optional. \nFALL 2023 MEETING DATES   *these will shift if there are snow days or other cancelations. \n\nSeptember: 14\, 21\, 28\, October 5\nOctober: 12\, 19\, 26\, November 2\nNovember 9\, 16\, (no school 23) 30 December 7\nDecember 14\, 21\, January 4 & 11\, 2024                                                                                                                                                          2024 dates will appear in late November 2023
URL:https://creativecommunityspace.com/event/middle-school-art-club-4/2023-09-28/
LOCATION:Creative Community Space\, 218 Main Street\, Epping\, NH\, 03042\, United States
CATEGORIES:Art Class,art club,Art Making Event,Class,homeschool,kids,middle school
ORGANIZER;CN="Creative Community Space":MAILTO:CreativeCommunitySpace@gmail.com
END:VEVENT
END:VCALENDAR