BEGIN:VCALENDAR
VERSION:2.0
PRODID:-//Creative Community Space - ECPv6.15.13//NONSGML v1.0//EN
CALSCALE:GREGORIAN
METHOD:PUBLISH
X-WR-CALNAME:Creative Community Space
X-ORIGINAL-URL:https://creativecommunityspace.com
X-WR-CALDESC:Events for Creative Community Space
REFRESH-INTERVAL;VALUE=DURATION:PT1H
X-Robots-Tag:noindex
X-PUBLISHED-TTL:PT1H
BEGIN:VTIMEZONE
TZID:America/New_York
BEGIN:DAYLIGHT
TZOFFSETFROM:-0500
TZOFFSETTO:-0400
TZNAME:EDT
DTSTART:20230312T070000
END:DAYLIGHT
BEGIN:STANDARD
TZOFFSETFROM:-0400
TZOFFSETTO:-0500
TZNAME:EST
DTSTART:20231105T060000
END:STANDARD
BEGIN:DAYLIGHT
TZOFFSETFROM:-0500
TZOFFSETTO:-0400
TZNAME:EDT
DTSTART:20240310T070000
END:DAYLIGHT
BEGIN:STANDARD
TZOFFSETFROM:-0400
TZOFFSETTO:-0500
TZNAME:EST
DTSTART:20241103T060000
END:STANDARD
BEGIN:DAYLIGHT
TZOFFSETFROM:-0500
TZOFFSETTO:-0400
TZNAME:EDT
DTSTART:20250309T070000
END:DAYLIGHT
BEGIN:STANDARD
TZOFFSETFROM:-0400
TZOFFSETTO:-0500
TZNAME:EST
DTSTART:20251102T060000
END:STANDARD
END:VTIMEZONE
BEGIN:VEVENT
DTSTART;TZID=America/New_York:20240302T100000
DTEND;TZID=America/New_York:20240302T120000
DTSTAMP:20260419T143145
CREATED:20240213T212015Z
LAST-MODIFIED:20240213T212438Z
UID:10002236-1709373600-1709380800@creativecommunityspace.com
SUMMARY:Natalie's Art Club
DESCRIPTION:Natalie’s Art Club \n \nStarting: 3/2/24 \nRegistration Deadline: 2/28/24 to start on 3/2/24 \nAges: Adults 18+ \nMinimum Required Sign-ups: 4\, Maximum: 10 \nSign up by email to nrotman@aol.com. Send your name\, phone # and a little description of what you hope to get from being in the club or what your current art practice is (none is ok!). \nPayment by paypal – link provided in reply email. \nAbout the club: Are you curious about creating paintings? Are you confused by all the different types of paintings and styles that are out there? Do you wonder which one is for you? Or are you like me and you just want to try them all? If so\, this art club is for you! We will play with a variety of art techniques in a fun\, friendly and relaxing class experience. This is a no pressure art zone. \nNo experience is necessary though curious practicing artists are also welcome. \nMonthly themes will include beginner drawing\, acrylic painting\, watercolor techniques\, using pastels\, painting basics\, digital art\, mixed media\, etc.  We will discuss our monthly themes and will decide as a group what our next month will focus on. Rest assured\, there is no shortage of topics for our monthly themes! \nWhat will you get from participating in this art club? Fun\, relaxing art time with a group of like-minded locals. Instruction on the monthly themes so you don’t have to figure it all out yourself. Lots of hands-on time with each medium. Time to figure out which mediums you love that you may want to pursue outside of the club. \nWatercolor Play! \nWeek 1: Techniques\, Practice \nWeek 2: Demo Paint-along \nWeek 3: Paint your own with guidance \n1st three Saturdays of each month starting March 2\, 2024 \n10 am to noon \nSign-up is per 3-week session: $120 plus $20 materials fee (Club will generally meet the first three Saturdays of a month) \nThe groups’ interests will decide future themes. \nDiscounts: \n\na 3-month sign up: $300 (savings of $60) + regular material fee\nInvite a friend – with coupon – you and your friend get $20 off your monthly fee\nGroup pricing is available upon request\n\n  \n 
URL:https://creativecommunityspace.com/event/natalies-art-club/2024-03-02/
LOCATION:Creative Community Space\, 218 Main Street\, Epping\, NH\, 03042\, United States
CATEGORIES:adults,Art Class,art club,Art Making Event,Class,painting
END:VEVENT
BEGIN:VEVENT
DTSTART;TZID=America/New_York:20240305T190000
DTEND;TZID=America/New_York:20240305T210000
DTSTAMP:20260419T143145
CREATED:20240212T023921Z
LAST-MODIFIED:20240409T170420Z
UID:10002219-1709665200-1709672400@creativecommunityspace.com
SUMMARY:Open Art - Clay!!!
DESCRIPTION:                               \nDrop-in and create.  This is an Open Art session with clay. These sessions are available once a month for a $12.00 fee.  Basic clay instruction on clay hand-building and tool usage will be provided. (sorry no wheels)  Your fee is your studio fee\, clay can be purchased for $3.00/ pound.  The clay fee includes the first firing in the kiln (bisque fire).  Later come to a Glaze Day. You pay a studio fee of $12.00. Your glaze fee is $3.00/pound of clay used. On this day your glaze fee will include glaze and glaze firing in the kiln to create your functional ceramic piece. This is drop-in first\, come/first serve for spaces.  Cash is preferred but cards are accepted. \n*********WE NOW HAVE CLAY NIGHT 2 WEEKS IN A ROW SO YOU HAVE MORE TIME TO WORK ON A PROJECT!!! \nThis is an All Ages Event \n*Open Art is Free to Members of Creative Community Space\, they only pay the $3.00 materials fee/pound on clay and glaze nights- see our website for membership details. \nAs winter illnesses develop Masks are optional\, this is a no-judgment zone!
URL:https://creativecommunityspace.com/event/open-art-clay-3-2/2024-03-05/
LOCATION:Creative Community Space\, 218 Main Street\, Epping\, NH\, 03042\, United States
CATEGORIES:adults,Art Class,Art Making Event,ceramics,Class,elementary students,families,High School Students,homeschool,kids,middle school,persons with developmental disabilities
ORGANIZER;CN="Creative Community Space":MAILTO:CreativeCommunitySpace@gmail.com
END:VEVENT
BEGIN:VEVENT
DTSTART;TZID=America/New_York:20240309T100000
DTEND;TZID=America/New_York:20240309T120000
DTSTAMP:20260419T143145
CREATED:20240213T212015Z
LAST-MODIFIED:20240213T212438Z
UID:10002237-1709978400-1709985600@creativecommunityspace.com
SUMMARY:Natalie's Art Club
DESCRIPTION:Natalie’s Art Club \n \nStarting: 3/2/24 \nRegistration Deadline: 2/28/24 to start on 3/2/24 \nAges: Adults 18+ \nMinimum Required Sign-ups: 4\, Maximum: 10 \nSign up by email to nrotman@aol.com. Send your name\, phone # and a little description of what you hope to get from being in the club or what your current art practice is (none is ok!). \nPayment by paypal – link provided in reply email. \nAbout the club: Are you curious about creating paintings? Are you confused by all the different types of paintings and styles that are out there? Do you wonder which one is for you? Or are you like me and you just want to try them all? If so\, this art club is for you! We will play with a variety of art techniques in a fun\, friendly and relaxing class experience. This is a no pressure art zone. \nNo experience is necessary though curious practicing artists are also welcome. \nMonthly themes will include beginner drawing\, acrylic painting\, watercolor techniques\, using pastels\, painting basics\, digital art\, mixed media\, etc.  We will discuss our monthly themes and will decide as a group what our next month will focus on. Rest assured\, there is no shortage of topics for our monthly themes! \nWhat will you get from participating in this art club? Fun\, relaxing art time with a group of like-minded locals. Instruction on the monthly themes so you don’t have to figure it all out yourself. Lots of hands-on time with each medium. Time to figure out which mediums you love that you may want to pursue outside of the club. \nWatercolor Play! \nWeek 1: Techniques\, Practice \nWeek 2: Demo Paint-along \nWeek 3: Paint your own with guidance \n1st three Saturdays of each month starting March 2\, 2024 \n10 am to noon \nSign-up is per 3-week session: $120 plus $20 materials fee (Club will generally meet the first three Saturdays of a month) \nThe groups’ interests will decide future themes. \nDiscounts: \n\na 3-month sign up: $300 (savings of $60) + regular material fee\nInvite a friend – with coupon – you and your friend get $20 off your monthly fee\nGroup pricing is available upon request\n\n  \n 
URL:https://creativecommunityspace.com/event/natalies-art-club/2024-03-09/
LOCATION:Creative Community Space\, 218 Main Street\, Epping\, NH\, 03042\, United States
CATEGORIES:adults,Art Class,art club,Art Making Event,Class,painting
END:VEVENT
BEGIN:VEVENT
DTSTART;TZID=America/New_York:20240310T150000
DTEND;TZID=America/New_York:20240310T170000
DTSTAMP:20260419T143145
CREATED:20240104T034459Z
LAST-MODIFIED:20240104T034459Z
UID:10002230-1710082800-1710090000@creativecommunityspace.com
SUMMARY:Intro to SoulCollage®
DESCRIPTION:$60 + 2.00 Materials Cost\n\n\n\n\n Come make some amazing art that reflects thoughts and emotions that you may not even be conscious of. \nLearn about how your visual mind can communicate thoughts and feelings through images.  This collage process often feels magical and produces amazing works of art.  No art experience is necessary. \nVandy Leigh is a trained SoulCollage® facilitator.  All materials provided. \nRegistration Deadline:  February 25th. \nLink for registration form below.                                                                                              \nCancelation with refund through February 25th. \nCancelation after February 25th until March 10th\, credit for future class/workshop. \nSame-day cancelation or no-show results in no refund. \n\nsee www.SoulCollage.com for more information about the SoulCollage process. \n(This is a 1 day/2 hour workshop for $60 + $2.00 material fee = 2 cards with protective sleeves.  Additional materials can be purchased at the workshop for $1.00/each if desired – not required.) \n\nDuring classes and Open Art at Creative Community Space feel free to wear a mask. This is a no-judgement zone! \nIf you are feeling ill\, please stay home and take care of yourself. We’d love to see you another time! \n 
URL:https://creativecommunityspace.com/event/intro-to-soulcollage/
LOCATION:Creative Community Space\, 218 Main Street\, Epping\, NH\, 03042\, United States
CATEGORIES:adults,Art Class,Art Making Event,Class,collage,High School Students,SoulCollage®,workshop
ORGANIZER;CN="Vandy Leigh":MAILTO:AreaArts@yahoo.com
END:VEVENT
BEGIN:VEVENT
DTSTART;TZID=America/New_York:20240312T190000
DTEND;TZID=America/New_York:20240312T210000
DTSTAMP:20260419T143145
CREATED:20231231T054200Z
LAST-MODIFIED:20240409T171511Z
UID:10002213-1710270000-1710277200@creativecommunityspace.com
SUMMARY:Open Art!!!
DESCRIPTION:  \nDrop-in and get creative!  Explore our materials\, try our example project\, or bring your own project. Make it a fun night out with friends! Come and meet other creatives!   Basic materials are included in your fee\, some items are available for small additional fees. \n*Open Art is free to members of Creative Community Space – see the website for membership information. \nFirst come/first serve for spaces.  Exact cash is preferred\,  cards are also accepted. \n\na variety of materials are available to explore during Open Art.\nClay and glazing are on separate nights\, see the website calendar on Tuesdays.\n\n*Masks are optional this is a no-judgement zone!
URL:https://creativecommunityspace.com/event/open-art-43/2024-03-12/
LOCATION:Creative Community Space\, 218 Main Street\, Epping\, NH\, 03042\, United States
CATEGORIES:adults,Art Class,Art Making Event,Class,couples,families,High School Students,homeschool,kids,middle school,persons with developmental disabilities,workshop
ORGANIZER;CN="Creative Community Space":MAILTO:CreativeCommunitySpace@gmail.com
END:VEVENT
BEGIN:VEVENT
DTSTART;TZID=America/New_York:20240316T100000
DTEND;TZID=America/New_York:20240316T120000
DTSTAMP:20260419T143145
CREATED:20240213T212015Z
LAST-MODIFIED:20240213T212438Z
UID:10002238-1710583200-1710590400@creativecommunityspace.com
SUMMARY:Natalie's Art Club
DESCRIPTION:Natalie’s Art Club \n \nStarting: 3/2/24 \nRegistration Deadline: 2/28/24 to start on 3/2/24 \nAges: Adults 18+ \nMinimum Required Sign-ups: 4\, Maximum: 10 \nSign up by email to nrotman@aol.com. Send your name\, phone # and a little description of what you hope to get from being in the club or what your current art practice is (none is ok!). \nPayment by paypal – link provided in reply email. \nAbout the club: Are you curious about creating paintings? Are you confused by all the different types of paintings and styles that are out there? Do you wonder which one is for you? Or are you like me and you just want to try them all? If so\, this art club is for you! We will play with a variety of art techniques in a fun\, friendly and relaxing class experience. This is a no pressure art zone. \nNo experience is necessary though curious practicing artists are also welcome. \nMonthly themes will include beginner drawing\, acrylic painting\, watercolor techniques\, using pastels\, painting basics\, digital art\, mixed media\, etc.  We will discuss our monthly themes and will decide as a group what our next month will focus on. Rest assured\, there is no shortage of topics for our monthly themes! \nWhat will you get from participating in this art club? Fun\, relaxing art time with a group of like-minded locals. Instruction on the monthly themes so you don’t have to figure it all out yourself. Lots of hands-on time with each medium. Time to figure out which mediums you love that you may want to pursue outside of the club. \nWatercolor Play! \nWeek 1: Techniques\, Practice \nWeek 2: Demo Paint-along \nWeek 3: Paint your own with guidance \n1st three Saturdays of each month starting March 2\, 2024 \n10 am to noon \nSign-up is per 3-week session: $120 plus $20 materials fee (Club will generally meet the first three Saturdays of a month) \nThe groups’ interests will decide future themes. \nDiscounts: \n\na 3-month sign up: $300 (savings of $60) + regular material fee\nInvite a friend – with coupon – you and your friend get $20 off your monthly fee\nGroup pricing is available upon request\n\n  \n 
URL:https://creativecommunityspace.com/event/natalies-art-club/2024-03-16/
LOCATION:Creative Community Space\, 218 Main Street\, Epping\, NH\, 03042\, United States
CATEGORIES:adults,Art Class,art club,Art Making Event,Class,painting
END:VEVENT
BEGIN:VEVENT
DTSTART;TZID=America/New_York:20240319T190000
DTEND;TZID=America/New_York:20240319T210000
DTSTAMP:20260419T143145
CREATED:20231231T061914Z
LAST-MODIFIED:20240409T171832Z
UID:10002227-1710874800-1710882000@creativecommunityspace.com
SUMMARY:Open Art- GLAZE NIGHT!!!
DESCRIPTION:                   \nDid you make ceramics at a Creative Community Space class or event?  Come on this evening to paint on your glaze so we can fire it again and make it a functional ceramic piece for you.  You pay a $12.00 studio fee. Glaze is then $3.00/ pound of clay used. This includes your second firing to make your creation a functional ceramic piece. \nThis is an All Ages event. Drop in no registration needed. \n*Open Art is Free to Members of Creative Community Space\, they only pay the $3.00 materials fee on clay and glaze nights- see our website for membership details. \nFirst come/first serve for spaces.  Cash is preferred but cards are accepted. \nMasks are optional\, this is a no-judgment zone!!!
URL:https://creativecommunityspace.com/event/open-art-glaze-night-12/2024-03-19/
LOCATION:Creative Community Space\, 218 Main Street\, Epping\, NH\, 03042\, United States
CATEGORIES:adults,Art Class,Art Making Event,ceramics,Class,elementary students,families,High School Students,homeschool,kids,middle school,persons with developmental disabilities
ORGANIZER;CN="Creative Community Space":MAILTO:CreativeCommunitySpace@gmail.com
END:VEVENT
BEGIN:VEVENT
DTSTART;TZID=America/New_York:20240323T150000
DTEND;TZID=America/New_York:20240323T163000
DTSTAMP:20260419T143145
CREATED:20240311T022608Z
LAST-MODIFIED:20240325T170053Z
UID:10002255-1711206000-1711211400@creativecommunityspace.com
SUMMARY:Fused Glass Suncatcher Class
DESCRIPTION:Create your own special glass art with colorful glass (all materials included). \nYou will learn the basics of fused glass colorwork and with the supplied materials arrange bits of glass on a 3”x3” base. \nNo previous experience or skills needed.  I provide stencils to draw designs or you can create your own design. \nThe pieces will be fired after class and ready for pickup a week later. \nWe need 6 people to run this workshop. \nBring a friend and save $5 each! \nRegistration due by 3/21\, cancellation by 3/21. \nQuestions? Contact Nancy Nancystruecolors@gmail.com
URL:https://creativecommunityspace.com/event/fused-glass-suncatcher-class/
LOCATION:Creative Community Space\, 218 Main Street\, Epping\, NH\, 03042\, United States
CATEGORIES:adults,Art Class,Art Making Event,Class,Fused Glass,High School Students,workshop
END:VEVENT
BEGIN:VEVENT
DTSTART;TZID=America/New_York:20240326T190000
DTEND;TZID=America/New_York:20240326T210000
DTSTAMP:20260419T143145
CREATED:20231231T054200Z
LAST-MODIFIED:20240409T171511Z
UID:10002214-1711479600-1711486800@creativecommunityspace.com
SUMMARY:Open Art!!!
DESCRIPTION:  \nDrop-in and get creative!  Explore our materials\, try our example project\, or bring your own project. Make it a fun night out with friends! Come and meet other creatives!   Basic materials are included in your fee\, some items are available for small additional fees. \n*Open Art is free to members of Creative Community Space – see the website for membership information. \nFirst come/first serve for spaces.  Exact cash is preferred\,  cards are also accepted. \n\na variety of materials are available to explore during Open Art.\nClay and glazing are on separate nights\, see the website calendar on Tuesdays.\n\n*Masks are optional this is a no-judgement zone!
URL:https://creativecommunityspace.com/event/open-art-43/2024-03-26/
LOCATION:Creative Community Space\, 218 Main Street\, Epping\, NH\, 03042\, United States
CATEGORIES:adults,Art Class,Art Making Event,Class,couples,families,High School Students,homeschool,kids,middle school,persons with developmental disabilities,workshop
ORGANIZER;CN="Creative Community Space":MAILTO:CreativeCommunitySpace@gmail.com
END:VEVENT
END:VCALENDAR