BEGIN:VCALENDAR
VERSION:2.0
PRODID:-//Creative Community Space - ECPv6.15.13//NONSGML v1.0//EN
CALSCALE:GREGORIAN
METHOD:PUBLISH
X-WR-CALNAME:Creative Community Space
X-ORIGINAL-URL:https://creativecommunityspace.com
X-WR-CALDESC:Events for Creative Community Space
REFRESH-INTERVAL;VALUE=DURATION:PT1H
X-Robots-Tag:noindex
X-PUBLISHED-TTL:PT1H
BEGIN:VTIMEZONE
TZID:America/New_York
BEGIN:DAYLIGHT
TZOFFSETFROM:-0500
TZOFFSETTO:-0400
TZNAME:EDT
DTSTART:20220313T070000
END:DAYLIGHT
BEGIN:STANDARD
TZOFFSETFROM:-0400
TZOFFSETTO:-0500
TZNAME:EST
DTSTART:20221106T060000
END:STANDARD
BEGIN:DAYLIGHT
TZOFFSETFROM:-0500
TZOFFSETTO:-0400
TZNAME:EDT
DTSTART:20230312T070000
END:DAYLIGHT
BEGIN:STANDARD
TZOFFSETFROM:-0400
TZOFFSETTO:-0500
TZNAME:EST
DTSTART:20231105T060000
END:STANDARD
BEGIN:DAYLIGHT
TZOFFSETFROM:-0500
TZOFFSETTO:-0400
TZNAME:EDT
DTSTART:20240310T070000
END:DAYLIGHT
BEGIN:STANDARD
TZOFFSETFROM:-0400
TZOFFSETTO:-0500
TZNAME:EST
DTSTART:20241103T060000
END:STANDARD
END:VTIMEZONE
BEGIN:VEVENT
DTSTART;TZID=America/New_York:20230201T151500
DTEND;TZID=America/New_York:20230201T170000
DTSTAMP:20260419T151538
CREATED:20221229T235350Z
LAST-MODIFIED:20230207T053524Z
UID:10001760-1675264500-1675270800@creativecommunityspace.com
SUMMARY:3rd - 5th Art Club!!!
DESCRIPTION:Come meet other art enthusiasts!   We will experiment with new skills and materials and make projects that express who we are!\n\n\n\nArt Club for grades 3 -5 or age equivalent\, will meet Wednesdays from 3:15 – 5:00.  Registration is for a month of classes – be sure to check the calendar to know when we are meeting.  You must renew your registration monthly by emailing Vandy at CreativeCommunitySpace@gmail.com or speaking to her directly before the last day of the current session.  Cost is $92.00/4-week session\, materials fee may be required depending on projects chosen by the group. \nEpping students will be picked up at school and walked down to the Arts Center by the Creative Community Space group leader.  Students should bring a snack to eat before we begin Art Club activities. Don’t wear your best clothes to Art Club\, art can be messy! \nYou will find the registration form at the link below.  Upon receiving your registration & payment we will email you a “Walkers’ Release” that will allow us to pick your child up at school. \n*Please note   We generally follow the SAU 14 school calendar for days off/snow days. \nRegistration Deadline:  When 3 students have registered we have a “club.” This is session 5. This session runs Feb.  8\, 15\, 22 and March 8.  The dates of this session changed (Feb. 1 became part of last session) because a class was missed due to Vandy being ill on Jan. 18. Please invite your child/youth’s friends to join Art Club. \nCancelation Policy:  If you register and the club is canceled due to lack of participation you will be given a full refund.  No refunds after the 4 week session has begun. \nCovid-related information:  Art Club will meet in the indoor Gathering Space as long as it is determined to be safe. \nDuring classes and Open Art at Creative Community Space masks are highly recommended. Vaccination for Covid is highly recommended. \nBefore attending a class or gathering you should be able to answer “No” to these questions. \nHave you tested positive for  COVID-19 in the past 10 days?  Are you currently awaiting results from a COVID-19 test? Have you been diagnosed with COVID-19 by a licensed healthcare provider (for example\, a doctor\, nurse\, pharmacist\, or other) in the past 10 days? Have you been told that you are suspected to have COVID-19 by a licensed healthcare provider in the past 10 days? If you answer “Yes” to any of these questions or are feeling ill\, please stay home. We’d love to see you another time!
URL:https://creativecommunityspace.com/event/3rd-5th-art-club/2023-02-01/
LOCATION:Creative Community Space\, 218 Main Street\, Epping\, NH\, 03042\, United States
CATEGORIES:Art Class,art club,Art Making Event,Class,Event,homeschool,kids
ORGANIZER;CN="Creative Community Space":MAILTO:CreativeCommunitySpace@gmail.com
END:VEVENT
BEGIN:VEVENT
DTSTART;TZID=America/New_York:20230204T100000
DTEND;TZID=America/New_York:20230204T120000
DTSTAMP:20260419T151538
CREATED:20230112T193651Z
LAST-MODIFIED:20230112T193651Z
UID:10001795-1675504800-1675512000@creativecommunityspace.com
SUMMARY:Very Beginning Drawing Part II Shading and Value
DESCRIPTION:Very Beginning Drawing Part II Shading and Value\n$50.00\n\n\n\nThis is the continuation of the basic drawing introduction class.  We will now learn techniques to shade and give dimension to your drawings.  This class will give you a basic understanding of tone and value.   “Artistic talent” is a misnomer.  This is a no-shame\, no-judgment class.  Drawing skills can serve you in so many ways\, and you will see your world in a new way too.  This is a 2-hour Introduction to Shading and Value class\, \nCome expand your drawing skills!!! You know you really want to!!! \nA materials list will be provided by email upon registration – materials are generally under $25.00 and available at Michael’s Crafts.  These will be for your practice at home.  In-class materials will be provided. \nRegistration Deadline: \nCancelation through January 31st for a full refund. \nCancelation on February 1st or after get a credit for a future class or workshop. \nsee DETAILS at the bottom of the calendar page for registration form link. \nCovid related information: \nDuring classes and Open Art at Creative Community Space masks are highly recommended. Vaccination for Covid is highly recommended. \nBefore attending a class or gathering you should be able to answer “No” to these questions. \nHave you tested positive for  COVID-19 in the past 10 days?  Are you currently awaiting results from a COVID-19 test? Have you been diagnosed with COVID-19 by a licensed healthcare provider (for example\, a doctor\, nurse\, pharmacist\, or other) in the past 10 days? Have you been told that you are suspected to have COVID-19 by a licensed healthcare provider in the past 10 days? If you answer “Yes” to any of these questions or are feeling ill\, please stay home. We’d love to see you another time! \n 
URL:https://creativecommunityspace.com/event/very-beginning-drawing-part-ii-shading-and-value/
LOCATION:Creative Community Space\, 218 Main Street\, Epping\, NH\, 03042\, United States
CATEGORIES:adults,Art Class,Art Making Event,Class,Drawing,High School Students
ORGANIZER;CN="Creative Community Space":MAILTO:CreativeCommunitySpace@gmail.com
END:VEVENT
BEGIN:VEVENT
DTSTART;TZID=America/New_York:20230208T151500
DTEND;TZID=America/New_York:20230208T170000
DTSTAMP:20260419T151538
CREATED:20221229T235350Z
LAST-MODIFIED:20230207T053524Z
UID:10001761-1675869300-1675875600@creativecommunityspace.com
SUMMARY:3rd - 5th Art Club!!!
DESCRIPTION:Come meet other art enthusiasts!   We will experiment with new skills and materials and make projects that express who we are!\n\n\n\nArt Club for grades 3 -5 or age equivalent\, will meet Wednesdays from 3:15 – 5:00.  Registration is for a month of classes – be sure to check the calendar to know when we are meeting.  You must renew your registration monthly by emailing Vandy at CreativeCommunitySpace@gmail.com or speaking to her directly before the last day of the current session.  Cost is $92.00/4-week session\, materials fee may be required depending on projects chosen by the group. \nEpping students will be picked up at school and walked down to the Arts Center by the Creative Community Space group leader.  Students should bring a snack to eat before we begin Art Club activities. Don’t wear your best clothes to Art Club\, art can be messy! \nYou will find the registration form at the link below.  Upon receiving your registration & payment we will email you a “Walkers’ Release” that will allow us to pick your child up at school. \n*Please note   We generally follow the SAU 14 school calendar for days off/snow days. \nRegistration Deadline:  When 3 students have registered we have a “club.” This is session 5. This session runs Feb.  8\, 15\, 22 and March 8.  The dates of this session changed (Feb. 1 became part of last session) because a class was missed due to Vandy being ill on Jan. 18. Please invite your child/youth’s friends to join Art Club. \nCancelation Policy:  If you register and the club is canceled due to lack of participation you will be given a full refund.  No refunds after the 4 week session has begun. \nCovid-related information:  Art Club will meet in the indoor Gathering Space as long as it is determined to be safe. \nDuring classes and Open Art at Creative Community Space masks are highly recommended. Vaccination for Covid is highly recommended. \nBefore attending a class or gathering you should be able to answer “No” to these questions. \nHave you tested positive for  COVID-19 in the past 10 days?  Are you currently awaiting results from a COVID-19 test? Have you been diagnosed with COVID-19 by a licensed healthcare provider (for example\, a doctor\, nurse\, pharmacist\, or other) in the past 10 days? Have you been told that you are suspected to have COVID-19 by a licensed healthcare provider in the past 10 days? If you answer “Yes” to any of these questions or are feeling ill\, please stay home. We’d love to see you another time!
URL:https://creativecommunityspace.com/event/3rd-5th-art-club/2023-02-08/
LOCATION:Creative Community Space\, 218 Main Street\, Epping\, NH\, 03042\, United States
CATEGORIES:Art Class,art club,Art Making Event,Class,Event,homeschool,kids
ORGANIZER;CN="Creative Community Space":MAILTO:CreativeCommunitySpace@gmail.com
END:VEVENT
BEGIN:VEVENT
DTSTART;TZID=America/New_York:20230213T151500
DTEND;TZID=America/New_York:20230213T161500
DTSTAMP:20260419T151538
CREATED:20230123T175159Z
LAST-MODIFIED:20230131T212116Z
UID:10001802-1676301300-1676304900@creativecommunityspace.com
SUMMARY:1st and 2nd grade Art Club
DESCRIPTION:The January session is full. Please check back later in the month to register for the February session. Come meet other art enthusiasts!   We will experiment with new skills and materials and make projects that express who we are! \nArt Club for grades 1 & 2 or age equivalent\, will meet Mondays from 3:15 – 4:15. Registration in January is for 3 classes due to holidays– be sure to check the calendar to know when we are meeting.  You must renew your registration monthly by emailing Vandy at CreativeCommunitySpace@gmail.com or speaking to her directly before the last day of the current session.  Cost is $45 for this 3-week session\, materials fee may be required depending on projects chosen by the group. \n*********************JANUARY 23RD WAS CANCELLED DUE TO A SNOW DAY. FEBRUARY 13TH WAS ADDED************************************************************************************************* \nEpping students will be picked up at school and walked down to the Arts Center by the Creative Community Space group leader.  Students should bring a water bottle and a snack to eat before we begin Art Club activities. \nPLEASE BE SURE TO INFORM THE ART CENTER IF YOUR CHILD STAYS HOME FROM SCHOOL SO WE DON’T WAIT FOR THEM. \nYou will find the registration form at the link below.  Upon receiving your registration & payment we will email you a “Walkers’ Release” that will allow us to pick your child up at school. \n*Please note   We generally follow the SAU 14 school calendar. \nRegistration Deadline: Deadline for the first 3 weeks is: January 5th.  Please invite your child/youth’s friend to join Art Club. \nCancelation Policy:  If you register and the club is canceled due to lack of participation you will be given a full refund.  No refunds after the 3 week session has begun. \nCovid related information:   After October Art Club will meet in the indoor Gathering Space as long as it is determined to be safe. \nDuring classes and Open Art at Creative Community Space masks are highly recommended. Vaccination for Covid is highly recommended. \nBefore attending a class or gathering you should be able to answer “No” to these questions. \nHave you tested positive for  COVID-19 in the past 10 days?  Are you currently awaiting results from a COVID-19 test? Have you been diagnosed with COVID-19 by a licensed healthcare provider (for example\, a doctor\, nurse\, pharmacist\, or other) in the past 10 days? Have you been told that you are suspected to have COVID-19 by a licensed healthcare provider in the past 10 days? If you answer “Yes” to any of these questions or are feeling ill\, please stay home. We’d love to see you another time!
URL:https://creativecommunityspace.com/event/3496/
LOCATION:Creative Community Space\, 218 Main Street\, Epping\, NH\, 03042\, United States
CATEGORIES:Art Class,art club,Art Making Event,Class,kids
ORGANIZER;CN="Creative Community Space":MAILTO:CreativeCommunitySpace@gmail.com
END:VEVENT
BEGIN:VEVENT
DTSTART;TZID=America/New_York:20230215T151500
DTEND;TZID=America/New_York:20230215T170000
DTSTAMP:20260419T151538
CREATED:20221229T235350Z
LAST-MODIFIED:20230207T053524Z
UID:10001762-1676474100-1676480400@creativecommunityspace.com
SUMMARY:3rd - 5th Art Club!!!
DESCRIPTION:Come meet other art enthusiasts!   We will experiment with new skills and materials and make projects that express who we are!\n\n\n\nArt Club for grades 3 -5 or age equivalent\, will meet Wednesdays from 3:15 – 5:00.  Registration is for a month of classes – be sure to check the calendar to know when we are meeting.  You must renew your registration monthly by emailing Vandy at CreativeCommunitySpace@gmail.com or speaking to her directly before the last day of the current session.  Cost is $92.00/4-week session\, materials fee may be required depending on projects chosen by the group. \nEpping students will be picked up at school and walked down to the Arts Center by the Creative Community Space group leader.  Students should bring a snack to eat before we begin Art Club activities. Don’t wear your best clothes to Art Club\, art can be messy! \nYou will find the registration form at the link below.  Upon receiving your registration & payment we will email you a “Walkers’ Release” that will allow us to pick your child up at school. \n*Please note   We generally follow the SAU 14 school calendar for days off/snow days. \nRegistration Deadline:  When 3 students have registered we have a “club.” This is session 5. This session runs Feb.  8\, 15\, 22 and March 8.  The dates of this session changed (Feb. 1 became part of last session) because a class was missed due to Vandy being ill on Jan. 18. Please invite your child/youth’s friends to join Art Club. \nCancelation Policy:  If you register and the club is canceled due to lack of participation you will be given a full refund.  No refunds after the 4 week session has begun. \nCovid-related information:  Art Club will meet in the indoor Gathering Space as long as it is determined to be safe. \nDuring classes and Open Art at Creative Community Space masks are highly recommended. Vaccination for Covid is highly recommended. \nBefore attending a class or gathering you should be able to answer “No” to these questions. \nHave you tested positive for  COVID-19 in the past 10 days?  Are you currently awaiting results from a COVID-19 test? Have you been diagnosed with COVID-19 by a licensed healthcare provider (for example\, a doctor\, nurse\, pharmacist\, or other) in the past 10 days? Have you been told that you are suspected to have COVID-19 by a licensed healthcare provider in the past 10 days? If you answer “Yes” to any of these questions or are feeling ill\, please stay home. We’d love to see you another time!
URL:https://creativecommunityspace.com/event/3rd-5th-art-club/2023-02-15/
LOCATION:Creative Community Space\, 218 Main Street\, Epping\, NH\, 03042\, United States
CATEGORIES:Art Class,art club,Art Making Event,Class,Event,homeschool,kids
ORGANIZER;CN="Creative Community Space":MAILTO:CreativeCommunitySpace@gmail.com
END:VEVENT
BEGIN:VEVENT
DTSTART;TZID=America/New_York:20230220T151500
DTEND;TZID=America/New_York:20230220T161500
DTSTAMP:20260419T151538
CREATED:20230105T040322Z
LAST-MODIFIED:20230214T012009Z
UID:10001829-1676906100-1676909700@creativecommunityspace.com
SUMMARY:1st & 2nd Grade Art Club!!! FULL (please read below)
DESCRIPTION:We are sorry\, this session is full.  If you would be interested in us starting a Thursday session for this age group please let us know by emailing  CreativeCommunitySpace@gmail.com.  If we can get 3 participants we can begin another group. \nCome meet other art enthusiasts!   We will experiment with new skills and materials and make projects that express who we are! \nArt Club for grades 1 & 2 or age equivalent\, will meet Mondays from 3:15 – 4:15. Registration is for 3 classes please be sure to check the calendar to know when we are meeting.  You must renew your registration monthly by emailing Vandy at CreativeCommunitySpace@gmail.com or speaking to her directly before the last day of the current session.  Cost is $45 for this 3-week session\, February 20 and March 6th & 13th. A materials fee may be required depending on projects chosen by the group. \nEpping students will be picked up at school and walked down to the Arts Center by the Creative Community Space group leader.  Students should bring a water bottle and a snack to eat before we begin Art Club activities. \nPLEASE BE SURE TO INFORM THE ART CENTER IF YOUR CHILD STAYS HOME FROM SCHOOL SO WE DON’T WAIT FOR THEM. \nYou will find the registration form at the link below.  Upon receiving your registration & payment we will email you a “Walkers’ Release” that will allow us to pick your child up at school. \n*Please note   We generally follow the SAU 14 school calendar. \nRegistration Deadline: Deadline for this Session is: February 13th for current club members.  New member registration begins February 14th if there is space. \nCancelation Policy:  If you register and the club is canceled due to lack of participation you will be given a full refund.  No refunds after the session has begun. \nCovid related information:   After October Art Club will meet in the indoor Gathering Space as long as it is determined to be safe. \nDuring classes and Open Art at Creative Community Space masks are highly recommended. Vaccination for Covid is highly recommended. \nBefore attending a class or gathering you should be able to answer “No” to these questions. \nHave you tested positive for  COVID-19 in the past 10 days?  Are you currently awaiting results from a COVID-19 test? Have you been diagnosed with COVID-19 by a licensed healthcare provider (for example\, a doctor\, nurse\, pharmacist\, or other) in the past 10 days? Have you been told that you are suspected to have COVID-19 by a licensed healthcare provider in the past 10 days? If you answer “Yes” to any of these questions or are feeling ill\, please stay home. We’d love to see you another time!
URL:https://creativecommunityspace.com/event/1st-2nd-grade-art-club-3/2023-02-20/
LOCATION:Creative Community Space\, 218 Main Street\, Epping\, NH\, 03042\, United States
CATEGORIES:Art Class,art club,Art Making Event,Class,homeschool,kids
ORGANIZER;CN="Creative Community Space":MAILTO:CreativeCommunitySpace@gmail.com
END:VEVENT
BEGIN:VEVENT
DTSTART;TZID=America/New_York:20230221T080000
DTEND;TZID=America/New_York:20230221T170000
DTSTAMP:20260419T151538
CREATED:20230120T180515Z
LAST-MODIFIED:20230314T044612Z
UID:10001901-1676966400-1676998800@creativecommunityspace.com
SUMMARY:Beginning Acrylic Painting
DESCRIPTION:This is a class for students aged 10 – 14. \nCome learn the basics of acrylic painting from subject choice through completion.  This is an introduction class\, no need to worry if you don’t have art experience.  We will be working on 9×12 landscapes. \nThis class is 4 weeks and runs Tuesdays February 21st – March 21st. No class on February 28th due to school vacations. \n4:00 – 5:30 PM \nRegister with link below. \n$92.00 for instruction + $15.00 for materials = $107.00 \nPlease note   We generally follow the SAU 14 school calendar for days off/snow days. \nRegistration Deadline:  We need 3 students to run this class.  Please invite your child/youth’s friends to sign up. \nCancelation Policy:  If you register and the class is canceled due to lack of participation you will be given a full refund.  If the class runs you can cancel through February 17th for a full refund. Cancellation after February 17th you will receive a credit towards a future class or open art.  No refunds after the 4-week session has begun. \nCovid-related information:  We will meet in the indoor Gathering Space as long as it is determined to be safe in relation to Covid. \nDuring classes and Open Art at Creative Community Space masks are highly recommended. Vaccination for Covid is highly recommended. \nBefore attending a class or gathering you should be able to answer “No” to these questions. \nHave you tested positive for  COVID-19 in the past 10 days?  Are you currently awaiting results from a COVID-19 test? Have you been diagnosed with COVID-19 by a licensed healthcare provider (for example\, a doctor\, nurse\, pharmacist\, or other) in the past 10 days? Have you been told that you are suspected to have COVID-19 by a licensed healthcare provider in the past 10 days? If you answer “Yes” to any of these questions or are feeling ill\, please stay home. We’d love to see you another time!
URL:https://creativecommunityspace.com/event/beginning-acrylic-painting/2023-02-21/1/
LOCATION:Creative Community Space\, 218 Main Street\, Epping\, NH\, 03042\, United States
CATEGORIES:Art Class,Art Making Event,Class,homeschool,kids,middle school,painting
ORGANIZER;CN="Creative Community Space":MAILTO:CreativeCommunitySpace@gmail.com
END:VEVENT
BEGIN:VEVENT
DTSTART;TZID=America/New_York:20230221T160000
DTEND;TZID=America/New_York:20230221T173000
DTSTAMP:20260419T151538
CREATED:20230120T180515Z
LAST-MODIFIED:20230314T044612Z
UID:10001796-1676995200-1677000600@creativecommunityspace.com
SUMMARY:Beginning Acrylic Painting
DESCRIPTION:This is a class for students aged 10 – 14. \nCome learn the basics of acrylic painting from subject choice through completion.  This is an introduction class\, no need to worry if you don’t have art experience.  We will be working on 9×12 landscapes. \nThis class is 4 weeks and runs Tuesdays February 21st – March 21st. No class on February 28th due to school vacations. \n4:00 – 5:30 PM \nRegister with link below. \n$92.00 for instruction + $15.00 for materials = $107.00 \nPlease note   We generally follow the SAU 14 school calendar for days off/snow days. \nRegistration Deadline:  We need 3 students to run this class.  Please invite your child/youth’s friends to sign up. \nCancelation Policy:  If you register and the class is canceled due to lack of participation you will be given a full refund.  If the class runs you can cancel through February 17th for a full refund. Cancellation after February 17th you will receive a credit towards a future class or open art.  No refunds after the 4-week session has begun. \nCovid-related information:  We will meet in the indoor Gathering Space as long as it is determined to be safe in relation to Covid. \nDuring classes and Open Art at Creative Community Space masks are highly recommended. Vaccination for Covid is highly recommended. \nBefore attending a class or gathering you should be able to answer “No” to these questions. \nHave you tested positive for  COVID-19 in the past 10 days?  Are you currently awaiting results from a COVID-19 test? Have you been diagnosed with COVID-19 by a licensed healthcare provider (for example\, a doctor\, nurse\, pharmacist\, or other) in the past 10 days? Have you been told that you are suspected to have COVID-19 by a licensed healthcare provider in the past 10 days? If you answer “Yes” to any of these questions or are feeling ill\, please stay home. We’d love to see you another time!
URL:https://creativecommunityspace.com/event/beginning-acrylic-painting/2023-02-21/2/
LOCATION:Creative Community Space\, 218 Main Street\, Epping\, NH\, 03042\, United States
CATEGORIES:Art Class,Art Making Event,Class,homeschool,kids,middle school,painting
ORGANIZER;CN="Creative Community Space":MAILTO:CreativeCommunitySpace@gmail.com
END:VEVENT
BEGIN:VEVENT
DTSTART;TZID=America/New_York:20230222T151500
DTEND;TZID=America/New_York:20230222T170000
DTSTAMP:20260419T151538
CREATED:20221229T235350Z
LAST-MODIFIED:20230207T053524Z
UID:10001763-1677078900-1677085200@creativecommunityspace.com
SUMMARY:3rd - 5th Art Club!!!
DESCRIPTION:Come meet other art enthusiasts!   We will experiment with new skills and materials and make projects that express who we are!\n\n\n\nArt Club for grades 3 -5 or age equivalent\, will meet Wednesdays from 3:15 – 5:00.  Registration is for a month of classes – be sure to check the calendar to know when we are meeting.  You must renew your registration monthly by emailing Vandy at CreativeCommunitySpace@gmail.com or speaking to her directly before the last day of the current session.  Cost is $92.00/4-week session\, materials fee may be required depending on projects chosen by the group. \nEpping students will be picked up at school and walked down to the Arts Center by the Creative Community Space group leader.  Students should bring a snack to eat before we begin Art Club activities. Don’t wear your best clothes to Art Club\, art can be messy! \nYou will find the registration form at the link below.  Upon receiving your registration & payment we will email you a “Walkers’ Release” that will allow us to pick your child up at school. \n*Please note   We generally follow the SAU 14 school calendar for days off/snow days. \nRegistration Deadline:  When 3 students have registered we have a “club.” This is session 5. This session runs Feb.  8\, 15\, 22 and March 8.  The dates of this session changed (Feb. 1 became part of last session) because a class was missed due to Vandy being ill on Jan. 18. Please invite your child/youth’s friends to join Art Club. \nCancelation Policy:  If you register and the club is canceled due to lack of participation you will be given a full refund.  No refunds after the 4 week session has begun. \nCovid-related information:  Art Club will meet in the indoor Gathering Space as long as it is determined to be safe. \nDuring classes and Open Art at Creative Community Space masks are highly recommended. Vaccination for Covid is highly recommended. \nBefore attending a class or gathering you should be able to answer “No” to these questions. \nHave you tested positive for  COVID-19 in the past 10 days?  Are you currently awaiting results from a COVID-19 test? Have you been diagnosed with COVID-19 by a licensed healthcare provider (for example\, a doctor\, nurse\, pharmacist\, or other) in the past 10 days? Have you been told that you are suspected to have COVID-19 by a licensed healthcare provider in the past 10 days? If you answer “Yes” to any of these questions or are feeling ill\, please stay home. We’d love to see you another time!
URL:https://creativecommunityspace.com/event/3rd-5th-art-club/2023-02-22/
LOCATION:Creative Community Space\, 218 Main Street\, Epping\, NH\, 03042\, United States
CATEGORIES:Art Class,art club,Art Making Event,Class,Event,homeschool,kids
ORGANIZER;CN="Creative Community Space":MAILTO:CreativeCommunitySpace@gmail.com
END:VEVENT
BEGIN:VEVENT
DTSTART;TZID=America/New_York:20230228T190000
DTEND;TZID=America/New_York:20230228T210000
DTSTAMP:20260419T151538
CREATED:20230131T220309Z
LAST-MODIFIED:20230228T183827Z
UID:10001809-1677610800-1677618000@creativecommunityspace.com
SUMMARY:CANCELED DUE TO WEATHER  Open Art!!!
DESCRIPTION:We’re sorry Open Art is Canceled due to the weather today/tonight.  See you next week! \nDrop-in and get creative!  Explore our materials\, or bring your own project. Make it a fun night out with friends! Come and meet other creatives!   Basic materials included in your fee\, some items available for small additional fees. \n \n*Open Art is free to members of Creative Community Space – see the website for membership information. \nSeating is limited due to the pandemic and social distancing needs. First come/first serve for spaces.  Exact cash is preferred\,  cards are also accepted. \nCovid related information: \nDuring classes and Open Art at Creative Community Space masks are highly recommended. Vaccination for Covid is highly recommended. \nBefore attending a class or gathering you should be able to answer “No” to these questions. \nHave you tested positive for  COVID-19 in the past 10 days?  Are you currently awaiting results from a COVID-19 test? Have you been diagnosed with COVID-19 by a licensed healthcare provider (for example\, a doctor\, nurse\, pharmacist\, or other) in the past 10 days? Have you been told that you are suspected to have COVID-19 by a licensed healthcare provider in the past 10 days? If you answer “Yes” to any of these questions or are feeling ill\, please stay home. We’d love to see you another time!
URL:https://creativecommunityspace.com/event/open-art-37/
LOCATION:Creative Community Space\, 218 Main Street\, Epping\, NH\, 03042\, United States
CATEGORIES:adults,Art Class,Art Making Event,Class,High School Students,homeschool,kids,middle school
ORGANIZER;CN="Creative Community Space":MAILTO:CreativeCommunitySpace@gmail.com
END:VEVENT
END:VCALENDAR