BEGIN:VCALENDAR
VERSION:2.0
PRODID:-//Creative Community Space - ECPv6.15.13//NONSGML v1.0//EN
CALSCALE:GREGORIAN
METHOD:PUBLISH
X-WR-CALNAME:Creative Community Space
X-ORIGINAL-URL:https://creativecommunityspace.com
X-WR-CALDESC:Events for Creative Community Space
REFRESH-INTERVAL;VALUE=DURATION:PT1H
X-Robots-Tag:noindex
X-PUBLISHED-TTL:PT1H
BEGIN:VTIMEZONE
TZID:America/New_York
BEGIN:DAYLIGHT
TZOFFSETFROM:-0500
TZOFFSETTO:-0400
TZNAME:EDT
DTSTART:20220313T070000
END:DAYLIGHT
BEGIN:STANDARD
TZOFFSETFROM:-0400
TZOFFSETTO:-0500
TZNAME:EST
DTSTART:20221106T060000
END:STANDARD
BEGIN:DAYLIGHT
TZOFFSETFROM:-0500
TZOFFSETTO:-0400
TZNAME:EDT
DTSTART:20230312T070000
END:DAYLIGHT
BEGIN:STANDARD
TZOFFSETFROM:-0400
TZOFFSETTO:-0500
TZNAME:EST
DTSTART:20231105T060000
END:STANDARD
BEGIN:DAYLIGHT
TZOFFSETFROM:-0500
TZOFFSETTO:-0400
TZNAME:EDT
DTSTART:20240310T070000
END:DAYLIGHT
BEGIN:STANDARD
TZOFFSETFROM:-0400
TZOFFSETTO:-0500
TZNAME:EST
DTSTART:20241103T060000
END:STANDARD
END:VTIMEZONE
BEGIN:VEVENT
DTSTART;TZID=America/New_York:20230808T190000
DTEND;TZID=America/New_York:20230808T210000
DTSTAMP:20260419T202817
CREATED:20230613T025948Z
LAST-MODIFIED:20230613T025948Z
UID:10002106-1691521200-1691528400@creativecommunityspace.com
SUMMARY:Open Art - Glaze Night!!!
DESCRIPTION:Did you make ceramics at a Creative Community Space class or event?  Come on this evening to paint on your glaze so we can fire it again and make it a functional ceramic piece for you.  Your glaze and firing are included in your drop-in fee of $13.00 for a piece originally 1 pound. *additional $3.00/pound after the first one. \nThis is an All Ages event. Drop in no registration needed. \n*Open Art is Free to Members of Creative Community Space\, they only pay the $3.00 materials fee on clay and glaze nights- see our website for membership details. \nFirst come/first serve for spaces.  Cash is preferred but cards are accepted.  After May 1st\, weather permitting\, we will meet in our 3 season barn with the door open for fresh air.  It is screened.
URL:https://creativecommunityspace.com/event/open-art-glaze-night-9/2023-08-08/
LOCATION:Creative Community Space\, 218 Main Street\, Epping\, NH\, 03042\, United States
CATEGORIES:adults,Art Class,Art Making Event,ceramics,Class,couples,elementary students,High School Students,homeschool,kids,middle school
ORGANIZER;CN="Creative Community Space":MAILTO:CreativeCommunitySpace@gmail.com
END:VEVENT
BEGIN:VEVENT
DTSTART;TZID=America/New_York:20230814T083000
DTEND;TZID=America/New_York:20230814T120000
DTSTAMP:20260419T202817
CREATED:20230613T032129Z
LAST-MODIFIED:20230613T032258Z
UID:10002108-1692001800-1692014400@creativecommunityspace.com
SUMMARY:DRAW and PAINT 3rd - 5th grade
DESCRIPTION:Draw and Paint (this is the same as the June camp)\n Draw and Paint!  Monday\, Wednesday\, Friday\n\n\n\nDrawing animals is great fun and will learn some “tricks” for making interesting art! We’ll draw animals with pencil and colored pencil and then learn some watercolor techniques to paint them. We’ll also play some fun games that will encourage us to “learn to look!” Some outdoor time will be included in nice weather.  Come see what you can do! \n*Families may choose whether their child going into 6th grade attends this camp or the 3rd-5th grade camp. \n*Families may choose whether their child going into 3rd attends this camp or the 1st and 2nd grade camp. \nMonday\, Wednesday\, Friday  8:30 – 12:00 \n3 day\, mornings\, camp = $126.00  + $15.00 materials fee \nRegistration Deadline: Deadline is July 25th. \nCancelation Policy:  Cancelation through July 25th. \n*** Please note that all payments made through the website/PayPal that need to be refunded will incur a charge of 3.49% unless Creative Community Space was responsible for the cancelation or need for a refund.  Should you prefer to write a check for your registration please contact us by email: CreativeCommunitySpace@gmail.com \nCancelation after Julu 25th receive credit towards another camp this summer.  No refunds after camp has begun. \nWe will be meeting in the Art Barn with the door open (it is screened) for fresh air flow. Campers should dress appropriately. Masks are optional.
URL:https://creativecommunityspace.com/event/draw-and-paint-3rd-5th-grade/2023-08-14/
LOCATION:Creative Community Space\, 218 Main Street\, Epping\, NH\, 03042\, United States
CATEGORIES:Art Camp,Art Class,Art Making Event,Class,elementary students,homeschool,kids
ORGANIZER;CN="Creative Community Space":MAILTO:CreativeCommunitySpace@gmail.com
END:VEVENT
BEGIN:VEVENT
DTSTART;TZID=America/New_York:20230816T083000
DTEND;TZID=America/New_York:20230816T120000
DTSTAMP:20260419T202817
CREATED:20230613T032129Z
LAST-MODIFIED:20230613T032258Z
UID:10002109-1692174600-1692187200@creativecommunityspace.com
SUMMARY:DRAW and PAINT 3rd - 5th grade
DESCRIPTION:Draw and Paint (this is the same as the June camp)\n Draw and Paint!  Monday\, Wednesday\, Friday\n\n\n\nDrawing animals is great fun and will learn some “tricks” for making interesting art! We’ll draw animals with pencil and colored pencil and then learn some watercolor techniques to paint them. We’ll also play some fun games that will encourage us to “learn to look!” Some outdoor time will be included in nice weather.  Come see what you can do! \n*Families may choose whether their child going into 6th grade attends this camp or the 3rd-5th grade camp. \n*Families may choose whether their child going into 3rd attends this camp or the 1st and 2nd grade camp. \nMonday\, Wednesday\, Friday  8:30 – 12:00 \n3 day\, mornings\, camp = $126.00  + $15.00 materials fee \nRegistration Deadline: Deadline is July 25th. \nCancelation Policy:  Cancelation through July 25th. \n*** Please note that all payments made through the website/PayPal that need to be refunded will incur a charge of 3.49% unless Creative Community Space was responsible for the cancelation or need for a refund.  Should you prefer to write a check for your registration please contact us by email: CreativeCommunitySpace@gmail.com \nCancelation after Julu 25th receive credit towards another camp this summer.  No refunds after camp has begun. \nWe will be meeting in the Art Barn with the door open (it is screened) for fresh air flow. Campers should dress appropriately. Masks are optional.
URL:https://creativecommunityspace.com/event/draw-and-paint-3rd-5th-grade/2023-08-16/
LOCATION:Creative Community Space\, 218 Main Street\, Epping\, NH\, 03042\, United States
CATEGORIES:Art Camp,Art Class,Art Making Event,Class,elementary students,homeschool,kids
ORGANIZER;CN="Creative Community Space":MAILTO:CreativeCommunitySpace@gmail.com
END:VEVENT
BEGIN:VEVENT
DTSTART;TZID=America/New_York:20230818T083000
DTEND;TZID=America/New_York:20230818T120000
DTSTAMP:20260419T202817
CREATED:20230613T032129Z
LAST-MODIFIED:20230613T032258Z
UID:10002110-1692347400-1692360000@creativecommunityspace.com
SUMMARY:DRAW and PAINT 3rd - 5th grade
DESCRIPTION:Draw and Paint (this is the same as the June camp)\n Draw and Paint!  Monday\, Wednesday\, Friday\n\n\n\nDrawing animals is great fun and will learn some “tricks” for making interesting art! We’ll draw animals with pencil and colored pencil and then learn some watercolor techniques to paint them. We’ll also play some fun games that will encourage us to “learn to look!” Some outdoor time will be included in nice weather.  Come see what you can do! \n*Families may choose whether their child going into 6th grade attends this camp or the 3rd-5th grade camp. \n*Families may choose whether their child going into 3rd attends this camp or the 1st and 2nd grade camp. \nMonday\, Wednesday\, Friday  8:30 – 12:00 \n3 day\, mornings\, camp = $126.00  + $15.00 materials fee \nRegistration Deadline: Deadline is July 25th. \nCancelation Policy:  Cancelation through July 25th. \n*** Please note that all payments made through the website/PayPal that need to be refunded will incur a charge of 3.49% unless Creative Community Space was responsible for the cancelation or need for a refund.  Should you prefer to write a check for your registration please contact us by email: CreativeCommunitySpace@gmail.com \nCancelation after Julu 25th receive credit towards another camp this summer.  No refunds after camp has begun. \nWe will be meeting in the Art Barn with the door open (it is screened) for fresh air flow. Campers should dress appropriately. Masks are optional.
URL:https://creativecommunityspace.com/event/draw-and-paint-3rd-5th-grade/2023-08-18/
LOCATION:Creative Community Space\, 218 Main Street\, Epping\, NH\, 03042\, United States
CATEGORIES:Art Camp,Art Class,Art Making Event,Class,elementary students,homeschool,kids
ORGANIZER;CN="Creative Community Space":MAILTO:CreativeCommunitySpace@gmail.com
END:VEVENT
END:VCALENDAR