BEGIN:VCALENDAR
VERSION:2.0
PRODID:-//Creative Community Space - ECPv6.15.13//NONSGML v1.0//EN
CALSCALE:GREGORIAN
METHOD:PUBLISH
X-WR-CALNAME:Creative Community Space
X-ORIGINAL-URL:https://creativecommunityspace.com
X-WR-CALDESC:Events for Creative Community Space
REFRESH-INTERVAL;VALUE=DURATION:PT1H
X-Robots-Tag:noindex
X-PUBLISHED-TTL:PT1H
BEGIN:VTIMEZONE
TZID:America/New_York
BEGIN:DAYLIGHT
TZOFFSETFROM:-0500
TZOFFSETTO:-0400
TZNAME:EDT
DTSTART:20210314T070000
END:DAYLIGHT
BEGIN:STANDARD
TZOFFSETFROM:-0400
TZOFFSETTO:-0500
TZNAME:EST
DTSTART:20211107T060000
END:STANDARD
BEGIN:DAYLIGHT
TZOFFSETFROM:-0500
TZOFFSETTO:-0400
TZNAME:EDT
DTSTART:20220313T070000
END:DAYLIGHT
BEGIN:STANDARD
TZOFFSETFROM:-0400
TZOFFSETTO:-0500
TZNAME:EST
DTSTART:20221106T060000
END:STANDARD
BEGIN:DAYLIGHT
TZOFFSETFROM:-0500
TZOFFSETTO:-0400
TZNAME:EDT
DTSTART:20230312T070000
END:DAYLIGHT
BEGIN:STANDARD
TZOFFSETFROM:-0400
TZOFFSETTO:-0500
TZNAME:EST
DTSTART:20231105T060000
END:STANDARD
END:VTIMEZONE
BEGIN:VEVENT
DTSTART;TZID=America/New_York:20220615T190000
DTEND;TZID=America/New_York:20220615T210000
DTSTAMP:20260425T153825
CREATED:20220416T031248Z
LAST-MODIFIED:20220416T031319Z
UID:10001172-1655319600-1655326800@creativecommunityspace.com
SUMMARY:Open Art - Adult Only
DESCRIPTION:Come spend some adult time creating. No kids\, just the kid inside of you playing with art materials.  Meet other creatives and just relax and enjoy some downtime. \nMost materials included with your fee\, some available at small additional cost. \n  \nBefore attending a class or gathering you should be able to answer “No” to these questions. \nHave you tested positive for  COVID-19 in the past 10 days?  Are you currently awaiting results from a COVID-19 test? Have you been diagnosed with COVID-19 by a licensed healthcare provider (for example\, a doctor\, nurse\, pharmacist\, or other) in the past 10 days? Have you been told that you are suspected to have COVID-19 by a licensed healthcare provider in the past 10 days? If you answer “Yes” to any of these questions or are feeling ill\, please stay home. We’d love to see you another time!
URL:https://creativecommunityspace.com/event/open-art-adult-only/
LOCATION:Creative Community Space\, 218 Main Street\, Epping\, NH\, 03042\, United States
CATEGORIES:Art Making Event,Event
END:VEVENT
END:VCALENDAR