BEGIN:VCALENDAR
VERSION:2.0
PRODID:-//Creative Community Space - ECPv6.15.13//NONSGML v1.0//EN
CALSCALE:GREGORIAN
METHOD:PUBLISH
X-ORIGINAL-URL:https://creativecommunityspace.com
X-WR-CALDESC:Events for Creative Community Space
REFRESH-INTERVAL;VALUE=DURATION:PT1H
X-Robots-Tag:noindex
X-PUBLISHED-TTL:PT1H
BEGIN:VTIMEZONE
TZID:America/New_York
BEGIN:DAYLIGHT
TZOFFSETFROM:-0500
TZOFFSETTO:-0400
TZNAME:EDT
DTSTART:20180311T070000
END:DAYLIGHT
BEGIN:STANDARD
TZOFFSETFROM:-0400
TZOFFSETTO:-0500
TZNAME:EST
DTSTART:20181104T060000
END:STANDARD
BEGIN:DAYLIGHT
TZOFFSETFROM:-0500
TZOFFSETTO:-0400
TZNAME:EDT
DTSTART:20190310T070000
END:DAYLIGHT
BEGIN:STANDARD
TZOFFSETFROM:-0400
TZOFFSETTO:-0500
TZNAME:EST
DTSTART:20191103T060000
END:STANDARD
BEGIN:DAYLIGHT
TZOFFSETFROM:-0500
TZOFFSETTO:-0400
TZNAME:EDT
DTSTART:20200308T070000
END:DAYLIGHT
BEGIN:STANDARD
TZOFFSETFROM:-0400
TZOFFSETTO:-0500
TZNAME:EST
DTSTART:20201101T060000
END:STANDARD
BEGIN:DAYLIGHT
TZOFFSETFROM:-0500
TZOFFSETTO:-0400
TZNAME:EDT
DTSTART:20210314T070000
END:DAYLIGHT
BEGIN:STANDARD
TZOFFSETFROM:-0400
TZOFFSETTO:-0500
TZNAME:EST
DTSTART:20211107T060000
END:STANDARD
END:VTIMEZONE
BEGIN:VEVENT
DTSTART;TZID=America/New_York:20200205T170000
DTEND;TZID=America/New_York:20200205T183000
DTSTAMP:20260425T164121
CREATED:20190930T223032Z
LAST-MODIFIED:20190930T223032Z
UID:10000795-1580922000-1580927400@creativecommunityspace.com
SUMMARY:Open Art!!!
DESCRIPTION:Open Art!!! \nDrop-in and explore art-making!  No registration needed.  Try our featured project\, experiment with art materials\, look at our books and meet other people interested in making art.  There will be a teaching artist present to help support your efforts.  This is an intergenerational activity\, all ages are welcome. Stay for part of the time or the whole time\, it is up to you. \nCost for members: Free                                                          Cost for non-members: $7.00/person at the door
URL:https://creativecommunityspace.com/event/open-art-4/2020-02-05/
LOCATION:Creative Community Space\, 218 Main Street\, Epping\, NH\, 03042\, United States
ORGANIZER;CN="CCS Teachig Artists":MAILTO:CreativeCommunitySpace@gmail.com
END:VEVENT
BEGIN:VEVENT
DTSTART;TZID=America/New_York:20200129T170000
DTEND;TZID=America/New_York:20200129T183000
DTSTAMP:20260425T164121
CREATED:20190930T223032Z
LAST-MODIFIED:20190930T223032Z
UID:10000794-1580317200-1580322600@creativecommunityspace.com
SUMMARY:Open Art!!!
DESCRIPTION:Open Art!!! \nDrop-in and explore art-making!  No registration needed.  Try our featured project\, experiment with art materials\, look at our books and meet other people interested in making art.  There will be a teaching artist present to help support your efforts.  This is an intergenerational activity\, all ages are welcome. Stay for part of the time or the whole time\, it is up to you. \nCost for members: Free                                                          Cost for non-members: $7.00/person at the door
URL:https://creativecommunityspace.com/event/open-art-4/2020-01-29/
LOCATION:Creative Community Space\, 218 Main Street\, Epping\, NH\, 03042\, United States
ORGANIZER;CN="CCS Teachig Artists":MAILTO:CreativeCommunitySpace@gmail.com
END:VEVENT
BEGIN:VEVENT
DTSTART;TZID=America/New_York:20200122T170000
DTEND;TZID=America/New_York:20200122T183000
DTSTAMP:20260425T164121
CREATED:20190930T223032Z
LAST-MODIFIED:20190930T223032Z
UID:10000793-1579712400-1579717800@creativecommunityspace.com
SUMMARY:Open Art!!!
DESCRIPTION:Open Art!!! \nDrop-in and explore art-making!  No registration needed.  Try our featured project\, experiment with art materials\, look at our books and meet other people interested in making art.  There will be a teaching artist present to help support your efforts.  This is an intergenerational activity\, all ages are welcome. Stay for part of the time or the whole time\, it is up to you. \nCost for members: Free                                                          Cost for non-members: $7.00/person at the door
URL:https://creativecommunityspace.com/event/open-art-4/2020-01-22/
LOCATION:Creative Community Space\, 218 Main Street\, Epping\, NH\, 03042\, United States
ORGANIZER;CN="CCS Teachig Artists":MAILTO:CreativeCommunitySpace@gmail.com
END:VEVENT
BEGIN:VEVENT
DTSTART;TZID=America/New_York:20200115T170000
DTEND;TZID=America/New_York:20200115T183000
DTSTAMP:20260425T164121
CREATED:20190930T223032Z
LAST-MODIFIED:20190930T223032Z
UID:10000792-1579107600-1579113000@creativecommunityspace.com
SUMMARY:Open Art!!!
DESCRIPTION:Open Art!!! \nDrop-in and explore art-making!  No registration needed.  Try our featured project\, experiment with art materials\, look at our books and meet other people interested in making art.  There will be a teaching artist present to help support your efforts.  This is an intergenerational activity\, all ages are welcome. Stay for part of the time or the whole time\, it is up to you. \nCost for members: Free                                                          Cost for non-members: $7.00/person at the door
URL:https://creativecommunityspace.com/event/open-art-4/2020-01-15/
LOCATION:Creative Community Space\, 218 Main Street\, Epping\, NH\, 03042\, United States
ORGANIZER;CN="CCS Teachig Artists":MAILTO:CreativeCommunitySpace@gmail.com
END:VEVENT
BEGIN:VEVENT
DTSTART;TZID=America/New_York:20200113T180000
DTEND;TZID=America/New_York:20200113T193000
DTSTAMP:20260425T164121
CREATED:20200109T193237Z
LAST-MODIFIED:20200109T200751Z
UID:10001033-1578938400-1578943800@creativecommunityspace.com
SUMMARY:OPEN ART!!!
DESCRIPTION:Open Art!!! \nDrop-in and explore art-making!  No registration needed.  Try our featured project\, experiment with art materials\, look at our books and meet other people interested in making art.  There will be a teaching artist present to help support your efforts.  This is an intergenerational activity\, all ages are welcome. Stay for part of the time or the whole time\, it is up to you.
URL:https://creativecommunityspace.com/event/open-art-14/
LOCATION:Creative Community Space\, 218 Main Street\, Epping\, NH\, 03042\, United States
ORGANIZER;CN="CCS Teachig Artists":MAILTO:CreativeCommunitySpace@gmail.com
END:VEVENT
BEGIN:VEVENT
DTSTART;TZID=America/New_York:20200108T170000
DTEND;TZID=America/New_York:20200108T183000
DTSTAMP:20260425T164121
CREATED:20190930T223032Z
LAST-MODIFIED:20190930T223032Z
UID:10000791-1578502800-1578508200@creativecommunityspace.com
SUMMARY:Open Art!!!
DESCRIPTION:Open Art!!! \nDrop-in and explore art-making!  No registration needed.  Try our featured project\, experiment with art materials\, look at our books and meet other people interested in making art.  There will be a teaching artist present to help support your efforts.  This is an intergenerational activity\, all ages are welcome. Stay for part of the time or the whole time\, it is up to you. \nCost for members: Free                                                          Cost for non-members: $7.00/person at the door
URL:https://creativecommunityspace.com/event/open-art-4/2020-01-08/
LOCATION:Creative Community Space\, 218 Main Street\, Epping\, NH\, 03042\, United States
ORGANIZER;CN="CCS Teachig Artists":MAILTO:CreativeCommunitySpace@gmail.com
END:VEVENT
BEGIN:VEVENT
DTSTART;TZID=America/New_York:20200101T170000
DTEND;TZID=America/New_York:20200101T183000
DTSTAMP:20260425T164121
CREATED:20190930T223032Z
LAST-MODIFIED:20190930T223032Z
UID:10000790-1577898000-1577903400@creativecommunityspace.com
SUMMARY:Open Art!!!
DESCRIPTION:Open Art!!! \nDrop-in and explore art-making!  No registration needed.  Try our featured project\, experiment with art materials\, look at our books and meet other people interested in making art.  There will be a teaching artist present to help support your efforts.  This is an intergenerational activity\, all ages are welcome. Stay for part of the time or the whole time\, it is up to you. \nCost for members: Free                                                          Cost for non-members: $7.00/person at the door
URL:https://creativecommunityspace.com/event/open-art-4/2020-01-01/
LOCATION:Creative Community Space\, 218 Main Street\, Epping\, NH\, 03042\, United States
ORGANIZER;CN="CCS Teachig Artists":MAILTO:CreativeCommunitySpace@gmail.com
END:VEVENT
BEGIN:VEVENT
DTSTART;TZID=America/New_York:20191225T170000
DTEND;TZID=America/New_York:20191225T183000
DTSTAMP:20260425T164121
CREATED:20190930T223032Z
LAST-MODIFIED:20190930T223032Z
UID:10000789-1577293200-1577298600@creativecommunityspace.com
SUMMARY:Open Art!!!
DESCRIPTION:Open Art!!! \nDrop-in and explore art-making!  No registration needed.  Try our featured project\, experiment with art materials\, look at our books and meet other people interested in making art.  There will be a teaching artist present to help support your efforts.  This is an intergenerational activity\, all ages are welcome. Stay for part of the time or the whole time\, it is up to you. \nCost for members: Free                                                          Cost for non-members: $7.00/person at the door
URL:https://creativecommunityspace.com/event/open-art-4/2019-12-25/
LOCATION:Creative Community Space\, 218 Main Street\, Epping\, NH\, 03042\, United States
ORGANIZER;CN="CCS Teachig Artists":MAILTO:CreativeCommunitySpace@gmail.com
END:VEVENT
BEGIN:VEVENT
DTSTART;TZID=America/New_York:20191218T170000
DTEND;TZID=America/New_York:20191218T183000
DTSTAMP:20260425T164121
CREATED:20190930T223032Z
LAST-MODIFIED:20190930T223032Z
UID:10000788-1576688400-1576693800@creativecommunityspace.com
SUMMARY:Open Art!!!
DESCRIPTION:Open Art!!! \nDrop-in and explore art-making!  No registration needed.  Try our featured project\, experiment with art materials\, look at our books and meet other people interested in making art.  There will be a teaching artist present to help support your efforts.  This is an intergenerational activity\, all ages are welcome. Stay for part of the time or the whole time\, it is up to you. \nCost for members: Free                                                          Cost for non-members: $7.00/person at the door
URL:https://creativecommunityspace.com/event/open-art-4/2019-12-18/
LOCATION:Creative Community Space\, 218 Main Street\, Epping\, NH\, 03042\, United States
ORGANIZER;CN="CCS Teachig Artists":MAILTO:CreativeCommunitySpace@gmail.com
END:VEVENT
BEGIN:VEVENT
DTSTART;TZID=America/New_York:20191211T170000
DTEND;TZID=America/New_York:20191211T183000
DTSTAMP:20260425T164121
CREATED:20190930T223032Z
LAST-MODIFIED:20190930T223032Z
UID:10000787-1576083600-1576089000@creativecommunityspace.com
SUMMARY:Open Art!!!
DESCRIPTION:Open Art!!! \nDrop-in and explore art-making!  No registration needed.  Try our featured project\, experiment with art materials\, look at our books and meet other people interested in making art.  There will be a teaching artist present to help support your efforts.  This is an intergenerational activity\, all ages are welcome. Stay for part of the time or the whole time\, it is up to you. \nCost for members: Free                                                          Cost for non-members: $7.00/person at the door
URL:https://creativecommunityspace.com/event/open-art-4/2019-12-11/
LOCATION:Creative Community Space\, 218 Main Street\, Epping\, NH\, 03042\, United States
ORGANIZER;CN="CCS Teachig Artists":MAILTO:CreativeCommunitySpace@gmail.com
END:VEVENT
BEGIN:VEVENT
DTSTART;TZID=America/New_York:20191204T170000
DTEND;TZID=America/New_York:20191204T183000
DTSTAMP:20260425T164121
CREATED:20190930T223032Z
LAST-MODIFIED:20190930T223032Z
UID:10000786-1575478800-1575484200@creativecommunityspace.com
SUMMARY:Open Art!!!
DESCRIPTION:Open Art!!! \nDrop-in and explore art-making!  No registration needed.  Try our featured project\, experiment with art materials\, look at our books and meet other people interested in making art.  There will be a teaching artist present to help support your efforts.  This is an intergenerational activity\, all ages are welcome. Stay for part of the time or the whole time\, it is up to you. \nCost for members: Free                                                          Cost for non-members: $7.00/person at the door
URL:https://creativecommunityspace.com/event/open-art-4/2019-12-04/
LOCATION:Creative Community Space\, 218 Main Street\, Epping\, NH\, 03042\, United States
ORGANIZER;CN="CCS Teachig Artists":MAILTO:CreativeCommunitySpace@gmail.com
END:VEVENT
BEGIN:VEVENT
DTSTART;TZID=America/New_York:20191127T170000
DTEND;TZID=America/New_York:20191127T183000
DTSTAMP:20260425T164121
CREATED:20190930T223032Z
LAST-MODIFIED:20190930T223032Z
UID:10000785-1574874000-1574879400@creativecommunityspace.com
SUMMARY:Open Art!!!
DESCRIPTION:Open Art!!! \nDrop-in and explore art-making!  No registration needed.  Try our featured project\, experiment with art materials\, look at our books and meet other people interested in making art.  There will be a teaching artist present to help support your efforts.  This is an intergenerational activity\, all ages are welcome. Stay for part of the time or the whole time\, it is up to you. \nCost for members: Free                                                          Cost for non-members: $7.00/person at the door
URL:https://creativecommunityspace.com/event/open-art-4/2019-11-27/
LOCATION:Creative Community Space\, 218 Main Street\, Epping\, NH\, 03042\, United States
ORGANIZER;CN="CCS Teachig Artists":MAILTO:CreativeCommunitySpace@gmail.com
END:VEVENT
BEGIN:VEVENT
DTSTART;TZID=America/New_York:20191120T170000
DTEND;TZID=America/New_York:20191120T183000
DTSTAMP:20260425T164121
CREATED:20190930T223032Z
LAST-MODIFIED:20190930T223032Z
UID:10000784-1574269200-1574274600@creativecommunityspace.com
SUMMARY:Open Art!!!
DESCRIPTION:Open Art!!! \nDrop-in and explore art-making!  No registration needed.  Try our featured project\, experiment with art materials\, look at our books and meet other people interested in making art.  There will be a teaching artist present to help support your efforts.  This is an intergenerational activity\, all ages are welcome. Stay for part of the time or the whole time\, it is up to you. \nCost for members: Free                                                          Cost for non-members: $7.00/person at the door
URL:https://creativecommunityspace.com/event/open-art-4/2019-11-20/
LOCATION:Creative Community Space\, 218 Main Street\, Epping\, NH\, 03042\, United States
ORGANIZER;CN="CCS Teachig Artists":MAILTO:CreativeCommunitySpace@gmail.com
END:VEVENT
BEGIN:VEVENT
DTSTART;TZID=America/New_York:20191113T170000
DTEND;TZID=America/New_York:20191113T183000
DTSTAMP:20260425T164121
CREATED:20191020T022100Z
LAST-MODIFIED:20191020T022100Z
UID:10001011-1573664400-1573669800@creativecommunityspace.com
SUMMARY:Open Art!
DESCRIPTION:Open Art!!! \nDrop-in and explore art-making!  No registration needed.  Try our featured project\, experiment with art materials\, look at our books and meet other people interested in making art.  There will be a teaching artist present to help support your efforts.  This is an intergenerational activity\, all ages are welcome. Stay for part of the time or the whole time\, it is up to you. \nCost for members: Free                                                          Cost for non-members: $7.00/person at the door
URL:https://creativecommunityspace.com/event/open-art-8/
LOCATION:Creative Community Space\, 218 Main Street\, Epping\, NH\, 03042\, United States
ORGANIZER;CN="CCS Teachig Artists":MAILTO:CreativeCommunitySpace@gmail.com
END:VEVENT
BEGIN:VEVENT
DTSTART;TZID=America/New_York:20191113T170000
DTEND;TZID=America/New_York:20191113T183000
DTSTAMP:20260425T164121
CREATED:20190930T223032Z
LAST-MODIFIED:20190930T223032Z
UID:10000783-1573664400-1573669800@creativecommunityspace.com
SUMMARY:Open Art!!!
DESCRIPTION:Open Art!!! \nDrop-in and explore art-making!  No registration needed.  Try our featured project\, experiment with art materials\, look at our books and meet other people interested in making art.  There will be a teaching artist present to help support your efforts.  This is an intergenerational activity\, all ages are welcome. Stay for part of the time or the whole time\, it is up to you. \nCost for members: Free                                                          Cost for non-members: $7.00/person at the door
URL:https://creativecommunityspace.com/event/open-art-4/2019-11-13/
LOCATION:Creative Community Space\, 218 Main Street\, Epping\, NH\, 03042\, United States
ORGANIZER;CN="CCS Teachig Artists":MAILTO:CreativeCommunitySpace@gmail.com
END:VEVENT
BEGIN:VEVENT
DTSTART;TZID=America/New_York:20191106T170000
DTEND;TZID=America/New_York:20191106T183000
DTSTAMP:20260425T164121
CREATED:20190930T223032Z
LAST-MODIFIED:20190930T223032Z
UID:10000782-1573059600-1573065000@creativecommunityspace.com
SUMMARY:Open Art!!!
DESCRIPTION:Open Art!!! \nDrop-in and explore art-making!  No registration needed.  Try our featured project\, experiment with art materials\, look at our books and meet other people interested in making art.  There will be a teaching artist present to help support your efforts.  This is an intergenerational activity\, all ages are welcome. Stay for part of the time or the whole time\, it is up to you. \nCost for members: Free                                                          Cost for non-members: $7.00/person at the door
URL:https://creativecommunityspace.com/event/open-art-4/2019-11-06/
LOCATION:Creative Community Space\, 218 Main Street\, Epping\, NH\, 03042\, United States
ORGANIZER;CN="CCS Teachig Artists":MAILTO:CreativeCommunitySpace@gmail.com
END:VEVENT
BEGIN:VEVENT
DTSTART;TZID=America/New_York:20191104T180000
DTEND;TZID=America/New_York:20191104T193000
DTSTAMP:20260425T164121
CREATED:20191020T021726Z
LAST-MODIFIED:20191020T021913Z
UID:10001010-1572890400-1572895800@creativecommunityspace.com
SUMMARY:Open Art!
DESCRIPTION:Open Art!!! \nDrop-in and explore art-making!  No registration needed.  Try our featured project\, experiment with art materials\, look at our books and meet other people interested in making art.  There will be a teaching artist present to help support your efforts.  This is an intergenerational activity\, all ages are welcome. Stay for part of the time or the whole time\, it is up to you. \nCost for members: Free                                                          Cost for non-members: $7.00/person at the door
URL:https://creativecommunityspace.com/event/open-art-7/
LOCATION:Creative Community Space\, 218 Main Street\, Epping\, NH\, 03042\, United States
ORGANIZER;CN="CCS Teachig Artists":MAILTO:CreativeCommunitySpace@gmail.com
END:VEVENT
BEGIN:VEVENT
DTSTART;TZID=America/New_York:20191103T100000
DTEND;TZID=America/New_York:20191103T160000
DTSTAMP:20260425T164121
CREATED:20190925T181704Z
LAST-MODIFIED:20190925T181704Z
UID:10000777-1572775200-1572796800@creativecommunityspace.com
SUMMARY:NH OPEN DOORS- OPEN STUDIOS
DESCRIPTION:Come meet our resident and teaching artists.  We will have items for sale and you can learn about our classes and events!  STORYTELLER AT NOON each day will share a tale or two.
URL:https://creativecommunityspace.com/event/nh-open-doors-open-studios/2019-11-03/
LOCATION:Creative Community Space\, 218 Main Street\, Epping\, NH\, 03042\, United States
ORGANIZER;CN="CCS Teachig Artists":MAILTO:CreativeCommunitySpace@gmail.com
END:VEVENT
BEGIN:VEVENT
DTSTART;TZID=America/New_York:20191102T100000
DTEND;TZID=America/New_York:20191102T160000
DTSTAMP:20260425T164121
CREATED:20190925T181704Z
LAST-MODIFIED:20190925T181704Z
UID:10000776-1572688800-1572710400@creativecommunityspace.com
SUMMARY:NH OPEN DOORS- OPEN STUDIOS
DESCRIPTION:Come meet our resident and teaching artists.  We will have items for sale and you can learn about our classes and events!  STORYTELLER AT NOON each day will share a tale or two.
URL:https://creativecommunityspace.com/event/nh-open-doors-open-studios/2019-11-02/
LOCATION:Creative Community Space\, 218 Main Street\, Epping\, NH\, 03042\, United States
ORGANIZER;CN="CCS Teachig Artists":MAILTO:CreativeCommunitySpace@gmail.com
END:VEVENT
BEGIN:VEVENT
DTSTART;TZID=America/New_York:20191101T160000
DTEND;TZID=America/New_York:20191101T173000
DTSTAMP:20260425T164121
CREATED:20190930T223359Z
LAST-MODIFIED:20190930T223359Z
UID:10000935-1572624000-1572629400@creativecommunityspace.com
SUMMARY:Open Art!!!
DESCRIPTION:Open Art!!! \nDrop-in and explore art-making!  No registration needed.  Try our featured project\, experiment with art materials\, look at our books and meet other people interested in making art.  There will be a teaching artist present to help support your efforts.  This is an intergenerational activity\, all ages are welcome. Stay for part of the time or the whole time\, it is up to you. \nCost for members: Free                                                          Cost for non-members: $7.00/person at the door
URL:https://creativecommunityspace.com/event/open-art-6/
LOCATION:Creative Community Space\, 218 Main Street\, Epping\, NH\, 03042\, United States
ORGANIZER;CN="CCS Teachig Artists":MAILTO:CreativeCommunitySpace@gmail.com
END:VEVENT
BEGIN:VEVENT
DTSTART;TZID=America/New_York:20191030T170000
DTEND;TZID=America/New_York:20191030T183000
DTSTAMP:20260425T164121
CREATED:20190930T223032Z
LAST-MODIFIED:20190930T223032Z
UID:10000781-1572454800-1572460200@creativecommunityspace.com
SUMMARY:Open Art!!!
DESCRIPTION:Open Art!!! \nDrop-in and explore art-making!  No registration needed.  Try our featured project\, experiment with art materials\, look at our books and meet other people interested in making art.  There will be a teaching artist present to help support your efforts.  This is an intergenerational activity\, all ages are welcome. Stay for part of the time or the whole time\, it is up to you. \nCost for members: Free                                                          Cost for non-members: $7.00/person at the door
URL:https://creativecommunityspace.com/event/open-art-4/2019-10-30/
LOCATION:Creative Community Space\, 218 Main Street\, Epping\, NH\, 03042\, United States
ORGANIZER;CN="CCS Teachig Artists":MAILTO:CreativeCommunitySpace@gmail.com
END:VEVENT
BEGIN:VEVENT
DTSTART;TZID=America/New_York:20191023T170000
DTEND;TZID=America/New_York:20191023T183000
DTSTAMP:20260425T164121
CREATED:20190930T223032Z
LAST-MODIFIED:20190930T223032Z
UID:10000780-1571850000-1571855400@creativecommunityspace.com
SUMMARY:Open Art!!!
DESCRIPTION:Open Art!!! \nDrop-in and explore art-making!  No registration needed.  Try our featured project\, experiment with art materials\, look at our books and meet other people interested in making art.  There will be a teaching artist present to help support your efforts.  This is an intergenerational activity\, all ages are welcome. Stay for part of the time or the whole time\, it is up to you. \nCost for members: Free                                                          Cost for non-members: $7.00/person at the door
URL:https://creativecommunityspace.com/event/open-art-4/2019-10-23/
LOCATION:Creative Community Space\, 218 Main Street\, Epping\, NH\, 03042\, United States
ORGANIZER;CN="CCS Teachig Artists":MAILTO:CreativeCommunitySpace@gmail.com
END:VEVENT
BEGIN:VEVENT
DTSTART;TZID=America/New_York:20191020T100000
DTEND;TZID=America/New_York:20191020T160000
DTSTAMP:20260425T164121
CREATED:20190829T022157Z
LAST-MODIFIED:20191020T020749Z
UID:10000750-1571565600-1571587200@creativecommunityspace.com
SUMMARY:Fall Open House
DESCRIPTION:Join us for our Fall Open House! \nCome in out of the brisk air and have some mulled cider.  Learn about the art center\, see your neighbors and check out our classes.  There will be fun stuff for the kids to do and some goodies too.  Hope to see you soon! Storyteller Vandy Leigh will tell a story at noon.
URL:https://creativecommunityspace.com/event/fall-open-house/
LOCATION:Creative Community Space\, 218 Main Street\, Epping\, NH\, 03042\, United States
ORGANIZER;CN="CCS Teachig Artists":MAILTO:CreativeCommunitySpace@gmail.com
END:VEVENT
BEGIN:VEVENT
DTSTART;TZID=America/New_York:20191016T170000
DTEND;TZID=America/New_York:20191016T183000
DTSTAMP:20260425T164121
CREATED:20190930T223032Z
LAST-MODIFIED:20190930T223032Z
UID:10000779-1571245200-1571250600@creativecommunityspace.com
SUMMARY:Open Art!!!
DESCRIPTION:Open Art!!! \nDrop-in and explore art-making!  No registration needed.  Try our featured project\, experiment with art materials\, look at our books and meet other people interested in making art.  There will be a teaching artist present to help support your efforts.  This is an intergenerational activity\, all ages are welcome. Stay for part of the time or the whole time\, it is up to you. \nCost for members: Free                                                          Cost for non-members: $7.00/person at the door
URL:https://creativecommunityspace.com/event/open-art-4/2019-10-16/
LOCATION:Creative Community Space\, 218 Main Street\, Epping\, NH\, 03042\, United States
ORGANIZER;CN="CCS Teachig Artists":MAILTO:CreativeCommunitySpace@gmail.com
END:VEVENT
BEGIN:VEVENT
DTSTART;TZID=America/New_York:20191008T180000
DTEND;TZID=America/New_York:20191008T193000
DTSTAMP:20260425T164121
CREATED:20190930T222700Z
LAST-MODIFIED:20190930T222700Z
UID:10000778-1570557600-1570563000@creativecommunityspace.com
SUMMARY:Open Art!!!
DESCRIPTION:Open Art!!! \nDrop-in and explore art-making!  No registration needed.  Try our featured project\, experiment with art materials\, look at our books and meet other people interested in making art.  There will be a teaching artist present to help support your efforts.  This is an intergenerational activity\, all ages are welcome. Stay for part of the time or the whole time\, it is up to you. \nCost for members: Free                                                          Cost for non-members: $7.00/person at the door
URL:https://creativecommunityspace.com/event/open-art-3/
LOCATION:Creative Community Space\, 218 Main Street\, Epping\, NH\, 03042\, United States
ORGANIZER;CN="CCS Teachig Artists":MAILTO:CreativeCommunitySpace@gmail.com
END:VEVENT
END:VCALENDAR