BEGIN:VCALENDAR
VERSION:2.0
PRODID:-//Creative Community Space - ECPv6.15.13//NONSGML v1.0//EN
CALSCALE:GREGORIAN
METHOD:PUBLISH
X-ORIGINAL-URL:https://creativecommunityspace.com
X-WR-CALDESC:Events for Creative Community Space
REFRESH-INTERVAL;VALUE=DURATION:PT1H
X-Robots-Tag:noindex
X-PUBLISHED-TTL:PT1H
BEGIN:VTIMEZONE
TZID:America/New_York
BEGIN:DAYLIGHT
TZOFFSETFROM:-0500
TZOFFSETTO:-0400
TZNAME:EDT
DTSTART:20180311T070000
END:DAYLIGHT
BEGIN:STANDARD
TZOFFSETFROM:-0400
TZOFFSETTO:-0500
TZNAME:EST
DTSTART:20181104T060000
END:STANDARD
BEGIN:DAYLIGHT
TZOFFSETFROM:-0500
TZOFFSETTO:-0400
TZNAME:EDT
DTSTART:20190310T070000
END:DAYLIGHT
BEGIN:STANDARD
TZOFFSETFROM:-0400
TZOFFSETTO:-0500
TZNAME:EST
DTSTART:20191103T060000
END:STANDARD
BEGIN:DAYLIGHT
TZOFFSETFROM:-0500
TZOFFSETTO:-0400
TZNAME:EDT
DTSTART:20200308T070000
END:DAYLIGHT
BEGIN:STANDARD
TZOFFSETFROM:-0400
TZOFFSETTO:-0500
TZNAME:EST
DTSTART:20201101T060000
END:STANDARD
END:VTIMEZONE
BEGIN:VEVENT
DTSTART;TZID=America/New_York:20191030T170000
DTEND;TZID=America/New_York:20191030T183000
DTSTAMP:20260425T155932
CREATED:20190930T223032Z
LAST-MODIFIED:20190930T223032Z
UID:10000781-1572454800-1572460200@creativecommunityspace.com
SUMMARY:Open Art!!!
DESCRIPTION:Open Art!!! \nDrop-in and explore art-making!  No registration needed.  Try our featured project\, experiment with art materials\, look at our books and meet other people interested in making art.  There will be a teaching artist present to help support your efforts.  This is an intergenerational activity\, all ages are welcome. Stay for part of the time or the whole time\, it is up to you. \nCost for members: Free                                                          Cost for non-members: $7.00/person at the door
URL:https://creativecommunityspace.com/event/open-art-4/2019-10-30/
LOCATION:Creative Community Space\, 218 Main Street\, Epping\, NH\, 03042\, United States
ORGANIZER;CN="CCS Teachig Artists":MAILTO:CreativeCommunitySpace@gmail.com
END:VEVENT
BEGIN:VEVENT
DTSTART;TZID=America/New_York:20191023T170000
DTEND;TZID=America/New_York:20191023T183000
DTSTAMP:20260425T155932
CREATED:20190930T223032Z
LAST-MODIFIED:20190930T223032Z
UID:10000780-1571850000-1571855400@creativecommunityspace.com
SUMMARY:Open Art!!!
DESCRIPTION:Open Art!!! \nDrop-in and explore art-making!  No registration needed.  Try our featured project\, experiment with art materials\, look at our books and meet other people interested in making art.  There will be a teaching artist present to help support your efforts.  This is an intergenerational activity\, all ages are welcome. Stay for part of the time or the whole time\, it is up to you. \nCost for members: Free                                                          Cost for non-members: $7.00/person at the door
URL:https://creativecommunityspace.com/event/open-art-4/2019-10-23/
LOCATION:Creative Community Space\, 218 Main Street\, Epping\, NH\, 03042\, United States
ORGANIZER;CN="CCS Teachig Artists":MAILTO:CreativeCommunitySpace@gmail.com
END:VEVENT
BEGIN:VEVENT
DTSTART;TZID=America/New_York:20191020T100000
DTEND;TZID=America/New_York:20191020T160000
DTSTAMP:20260425T155932
CREATED:20190829T022157Z
LAST-MODIFIED:20191020T020749Z
UID:10000750-1571565600-1571587200@creativecommunityspace.com
SUMMARY:Fall Open House
DESCRIPTION:Join us for our Fall Open House! \nCome in out of the brisk air and have some mulled cider.  Learn about the art center\, see your neighbors and check out our classes.  There will be fun stuff for the kids to do and some goodies too.  Hope to see you soon! Storyteller Vandy Leigh will tell a story at noon.
URL:https://creativecommunityspace.com/event/fall-open-house/
LOCATION:Creative Community Space\, 218 Main Street\, Epping\, NH\, 03042\, United States
ORGANIZER;CN="CCS Teachig Artists":MAILTO:CreativeCommunitySpace@gmail.com
END:VEVENT
BEGIN:VEVENT
DTSTART;TZID=America/New_York:20191016T170000
DTEND;TZID=America/New_York:20191016T183000
DTSTAMP:20260425T155932
CREATED:20190930T223032Z
LAST-MODIFIED:20190930T223032Z
UID:10000779-1571245200-1571250600@creativecommunityspace.com
SUMMARY:Open Art!!!
DESCRIPTION:Open Art!!! \nDrop-in and explore art-making!  No registration needed.  Try our featured project\, experiment with art materials\, look at our books and meet other people interested in making art.  There will be a teaching artist present to help support your efforts.  This is an intergenerational activity\, all ages are welcome. Stay for part of the time or the whole time\, it is up to you. \nCost for members: Free                                                          Cost for non-members: $7.00/person at the door
URL:https://creativecommunityspace.com/event/open-art-4/2019-10-16/
LOCATION:Creative Community Space\, 218 Main Street\, Epping\, NH\, 03042\, United States
ORGANIZER;CN="CCS Teachig Artists":MAILTO:CreativeCommunitySpace@gmail.com
END:VEVENT
BEGIN:VEVENT
DTSTART;TZID=America/New_York:20191008T180000
DTEND;TZID=America/New_York:20191008T193000
DTSTAMP:20260425T155932
CREATED:20190930T222700Z
LAST-MODIFIED:20190930T222700Z
UID:10000778-1570557600-1570563000@creativecommunityspace.com
SUMMARY:Open Art!!!
DESCRIPTION:Open Art!!! \nDrop-in and explore art-making!  No registration needed.  Try our featured project\, experiment with art materials\, look at our books and meet other people interested in making art.  There will be a teaching artist present to help support your efforts.  This is an intergenerational activity\, all ages are welcome. Stay for part of the time or the whole time\, it is up to you. \nCost for members: Free                                                          Cost for non-members: $7.00/person at the door
URL:https://creativecommunityspace.com/event/open-art-3/
LOCATION:Creative Community Space\, 218 Main Street\, Epping\, NH\, 03042\, United States
ORGANIZER;CN="CCS Teachig Artists":MAILTO:CreativeCommunitySpace@gmail.com
END:VEVENT
END:VCALENDAR